{"text_format":"1","workbook":"xlsx","n_sheets":6,"sheets":["基礎データ","1回目　集計表","2回目　集計表","ＳＮＳ個票","ＳＮＳ学級票","ＳＮＳ学級票（度数分布表）"],"not_rendered":{"charts":27,"images":0,"macros":1,"external_links":0,"defined_names":3,"comments":0,"pivot_tables":0},"unopened":[],"bounds":{"document_bytes":16777216,"sheet_cells":100000,"rows_first":2000,"rows_last":500,"rows_between":2000,"halvings":0,"cell_chars":16384,"cell_head_chars":4096},"cells_cut":0,"cells_raw":0,"read":"whole","date_system":"1900"}

{"sheet":"基礎データ","index":0,"n_rows":49,"n_cols":13,"rows_kept":49,"cut":false,"hidden":false,"merged":[[2,1,2,3]]}
[]
[]
[null,"名　簿",null,null,null,"学年",null,"組"]
[null,"出席番号","氏名","性別"]
[null,1,null,null,null,"１回目","令和","元","年",4,"月",4,"日"]
[null,2,null,null,null,"２回目","令和",2,"年",5,"月",5,"日"]
[null,3]
[null,4]
[null,5]
[null,6]
[null,7]
[null,8]
[null,9]
[null,10]
[null,11]
[null,12]
[null,13]
[null,14]
[null,15]
[null,16]
[null,17]
[null,18]
[null,19]
[null,20]
[null,21]
[null,22]
[null,23]
[null,24]
[null,25]
[null,26]
[null,27]
[null,28]
[null,29]
[null,30]
[null,31]
[null,32]
[null,33]
[null,34]
[null,35]
[null,36]
[null,37]
[null,38]
[null,39]
[null,40]
[null,41]
[null,42]
[null,43]
[null,44]
[null,45]

{"sheet":"1回目　集計表","index":1,"n_rows":116,"n_cols":23,"rows_kept":116,"cut":false,"hidden":false,"merged":[[66,0,66,2],[66,3,66,22],[68,0,70,0],[68,1,70,1],[69,3,70,3],[69,4,70,4],[69,5,70,5],[69,7,70,7],[69,9,70,9],[69,22,70,22],[69,19,70,19],[69,20,70,20],[69,18,70,18],[69,6,70,6],[69,14,70,14],[69,15,70,15],[69,16,70,16],[69,17,70,17],[69,21,70,21],[69,8,70,8],[69,10,70,10],[69,11,70,11],[69,12,70,12],[69,13,70,13],[3,22,4,22],[57,0,57,1],[51,0,51,1],[52,0,52,1],[53,0,53,1],[54,0,54,1],[55,0,55,1],[56,0,56,1],[50,0,50,1],[3,11,4,11],[3,12,4,12],[3,13,4,13],[3,14,4,14],[3,15,4,15],[3,16,4,16],[3,17,4,17],[3,18,4,18],[3,19,4,19],[3,20,4,20],[3,21,4,21],[3,9,4,9],[3,10,4,10],[3,6,4,6],[3,7,4,7],[3,8,4,8],[2,0,4,0],[2,1,4,1],[3,3,4,3],[3,4,4,4],[3,5,4,5]]}
[]
[1,2,3,4,5,6,7,8,9,10,11,12,13,14,15,16,17,18,19,20,21,22,23]
["番号","氏名",4,1,2,3,4,5,6,7,8,9,10,11,12,13,14,15,16,17,18,19,20]
[null,null,"性別\n\n男１\n女２","ＳＮＳの１週間当たりの利用日数","平日にＳＮＳを利用する時間","ＳＮＳを使い始めてからの経験年月","ＳＮＳでメッセージのやり取りをする友達の人数","ＳＮＳでメッセージのやり取りをするグループの数","個人情報は出さないようにしている。","相手が不愉快な気持ちになるような内容は書かないようにしている。","メッセージを送る前に問題がないか確認をするようにしている。","長時間にならないようにメッセージのやり取りをしている。","メッセージのやり取りで嫌な気持ちになったときは、直接、会話で気持ちを伝えるようにしている。","友達とのやり取りで困ったときは親や先生に相談するようにしている。","友達とメッセージのやり取りをすることで友達の気持ちを確かめることができる。","友達とメッセージのやり取りをすることで、友達とのつながりをもてる。","友達とメッセージのやり取りをすることで、寂しさをすぐにまぎらわすことができる。","メッセージがきたらすぐに返事をする。","友達から送られてくるメッセージをチェックする。","メッセージのやり取りをなかなか終わらせられない。","自分が送信したメッセージに対する反応がない。","メッセージの送信後，「あの伝え方でよかったのだろうか」と悩む。","知らないところで自分のことについてメッセージのやり取りをしているのではないかと心配になる。"]
[]
[{"$f":"基礎データ!B5","v":1},{"$f":"B72","v":0},{"$f":"IF(C72=\"男\",1,IF(C72=\"女\",2,0))","v":0},{"$f":"IF(D72=0,0,D72)","v":0},0,0,0,0,0,0,0,0,0,0,{"$f":"IF(O72=4,1,IF(O72=3,2,IF(O72=2,3,IF(O72=1,4,0))))","v":0},0,0,0,0,0,0,0,0]
[{"$f":"基礎データ!B6","v":2},{"$f":"B73","v":0},{"$f":"IF(C73=\"男\",1,IF(C73=\"女\",2,0))","v":0},{"$f":"IF(D73=0,0,D73)","v":0},0,0,0,0,0,0,0,0,0,0,{"$f":"IF(O73=4,1,IF(O73=3,2,IF(O73=2,3,IF(O73=1,4,0))))","v":0},0,0,0,0,0,0,0,0]
[{"$f":"基礎データ!B7","v":3},0,0,{"$f":"IF(D74=0,0,D74)","v":0},0,0,0,0,0,0,0,0,0,0,{"$f":"IF(O74=4,1,IF(O74=3,2,IF(O74=2,3,IF(O74=1,4,0))))","v":0},0,0,0,0,0,0,0,0]
[{"$f":"基礎データ!B8","v":4},0,0,{"$f":"IF(D75=0,0,D75)","v":0},0,0,0,0,0,0,0,0,0,0,{"$f":"IF(O75=4,1,IF(O75=3,2,IF(O75=2,3,IF(O75=1,4,0))))","v":0},0,0,0,0,0,0,0,0]
[{"$f":"基礎データ!B9","v":5},0,0,{"$f":"IF(D76=0,0,D76)","v":0},0,0,0,0,0,0,0,0,0,0,{"$f":"IF(O76=4,1,IF(O76=3,2,IF(O76=2,3,IF(O76=1,4,0))))","v":0},0,0,0,0,0,0,0,0]
[{"$f":"基礎データ!B10","v":6},0,0,{"$f":"IF(D77=0,0,D77)","v":0},0,0,0,0,0,0,0,0,0,0,{"$f":"IF(O77=4,1,IF(O77=3,2,IF(O77=2,3,IF(O77=1,4,0))))","v":0},0,0,0,0,0,0,0,0]
[{"$f":"基礎データ!B11","v":7},0,0,{"$f":"IF(D78=0,0,D78)","v":0},0,0,0,0,0,0,0,0,0,0,{"$f":"IF(O78=4,1,IF(O78=3,2,IF(O78=2,3,IF(O78=1,4,0))))","v":0},0,0,0,0,0,0,0,0]
[{"$f":"基礎データ!B12","v":8},0,0,{"$f":"IF(D79=0,0,D79)","v":0},0,0,0,0,0,0,0,0,0,0,{"$f":"IF(O79=4,1,IF(O79=3,2,IF(O79=2,3,IF(O79=1,4,0))))","v":0},0,0,0,0,0,0,0,0]
[{"$f":"基礎データ!B13","v":9},0,0,{"$f":"IF(D80=0,0,D80)","v":0},0,0,0,0,0,0,0,0,0,0,{"$f":"IF(O80=4,1,IF(O80=3,2,IF(O80=2,3,IF(O80=1,4,0))))","v":0},0,0,0,0,0,0,0,0]
[{"$f":"基礎データ!B14","v":10},0,0,{"$f":"IF(D81=0,0,D81)","v":0},0,0,0,0,0,0,0,0,0,0,{"$f":"IF(O81=4,1,IF(O81=3,2,IF(O81=2,3,IF(O81=1,4,0))))","v":0},0,0,0,0,0,0,0,0]
[{"$f":"基礎データ!B15","v":11},0,0,{"$f":"IF(D82=0,0,D82)","v":0},0,0,0,0,0,0,0,0,0,0,{"$f":"IF(O82=4,1,IF(O82=3,2,IF(O82=2,3,IF(O82=1,4,0))))","v":0},0,0,0,0,0,0,0,0]
[{"$f":"基礎データ!B16","v":12},0,0,{"$f":"IF(D83=0,0,D83)","v":0},0,0,0,0,0,0,0,0,0,0,{"$f":"IF(O83=4,1,IF(O83=3,2,IF(O83=2,3,IF(O83=1,4,0))))","v":0},0,0,0,0,0,0,0,0]
[{"$f":"基礎データ!B17","v":13},0,0,{"$f":"IF(D84=0,0,D84)","v":0},0,0,0,0,0,0,0,0,0,0,{"$f":"IF(O84=4,1,IF(O84=3,2,IF(O84=2,3,IF(O84=1,4,0))))","v":0},0,0,0,0,0,0,0,0]
[{"$f":"基礎データ!B18","v":14},0,0,{"$f":"IF(D85=0,0,D85)","v":0},0,0,0,0,0,0,0,0,0,0,{"$f":"IF(O85=4,1,IF(O85=3,2,IF(O85=2,3,IF(O85=1,4,0))))","v":0},0,0,0,0,0,0,0,0]
[{"$f":"基礎データ!B19","v":15},0,0,{"$f":"IF(D86=0,0,D86)","v":0},0,0,0,0,0,0,0,0,0,0,{"$f":"IF(O86=4,1,IF(O86=3,2,IF(O86=2,3,IF(O86=1,4,0))))","v":0},0,0,0,0,0,0,0,0]
[{"$f":"基礎データ!B20","v":16},0,0,{"$f":"IF(D87=0,0,D87)","v":0},0,0,0,0,0,0,0,0,0,0,{"$f":"IF(O87=4,1,IF(O87=3,2,IF(O87=2,3,IF(O87=1,4,0))))","v":0},0,0,0,0,0,0,0,0]
[{"$f":"基礎データ!B21","v":17},0,0,{"$f":"IF(D88=0,0,D88)","v":0},0,0,0,0,0,0,0,0,0,0,{"$f":"IF(O88=4,1,IF(O88=3,2,IF(O88=2,3,IF(O88=1,4,0))))","v":0},0,0,0,0,0,0,0,0]
[{"$f":"基礎データ!B22","v":18},0,0,{"$f":"IF(D89=0,0,D89)","v":0},0,0,0,0,0,0,0,0,0,0,{"$f":"IF(O89=4,1,IF(O89=3,2,IF(O89=2,3,IF(O89=1,4,0))))","v":0},0,0,0,0,0,0,0,0]
[{"$f":"基礎データ!B23","v":19},0,0,{"$f":"IF(D90=0,0,D90)","v":0},0,0,0,0,0,0,0,0,0,0,{"$f":"IF(O90=4,1,IF(O90=3,2,IF(O90=2,3,IF(O90=1,4,0))))","v":0},0,0,0,0,0,0,0,0]
[{"$f":"基礎データ!B24","v":20},0,0,{"$f":"IF(D91=0,0,D91)","v":0},0,0,0,0,0,0,0,0,0,0,{"$f":"IF(O91=4,1,IF(O91=3,2,IF(O91=2,3,IF(O91=1,4,0))))","v":0},0,0,0,0,0,0,0,0]
[{"$f":"基礎データ!B25","v":21},0,0,{"$f":"IF(D92=0,0,D92)","v":0},0,0,0,0,0,0,0,0,0,0,{"$f":"IF(O92=4,1,IF(O92=3,2,IF(O92=2,3,IF(O92=1,4,0))))","v":0},0,0,0,0,0,0,0,0]
[{"$f":"基礎データ!B26","v":22},0,0,{"$f":"IF(D93=0,0,D93)","v":0},0,0,0,0,0,0,0,0,0,0,{"$f":"IF(O93=4,1,IF(O93=3,2,IF(O93=2,3,IF(O93=1,4,0))))","v":0},0,0,0,0,0,0,0,0]
[{"$f":"基礎データ!B27","v":23},0,0,{"$f":"IF(D94=0,0,D94)","v":0},0,0,0,0,0,0,0,0,0,0,{"$f":"IF(O94=4,1,IF(O94=3,2,IF(O94=2,3,IF(O94=1,4,0))))","v":0},0,0,0,0,0,0,0,0]
[{"$f":"基礎データ!B28","v":24},0,0,{"$f":"IF(D95=0,0,D95)","v":0},0,0,0,0,0,0,0,0,0,0,{"$f":"IF(O95=4,1,IF(O95=3,2,IF(O95=2,3,IF(O95=1,4,0))))","v":0},0,0,0,0,0,0,0,0]
[{"$f":"基礎データ!B29","v":25},0,0,{"$f":"IF(D96=0,0,D96)","v":0},0,0,0,0,0,0,0,0,0,0,{"$f":"IF(O96=4,1,IF(O96=3,2,IF(O96=2,3,IF(O96=1,4,0))))","v":0},0,0,0,0,0,0,0,0]
[{"$f":"基礎データ!B30","v":26},0,0,{"$f":"IF(D97=0,0,D97)","v":0},0,0,0,0,0,0,0,0,0,0,{"$f":"IF(O97=4,1,IF(O97=3,2,IF(O97=2,3,IF(O97=1,4,0))))","v":0},0,0,0,0,0,0,0,0]
[{"$f":"基礎データ!B31","v":27},0,0,{"$f":"IF(D98=0,0,D98)","v":0},0,0,0,0,0,0,0,0,0,0,{"$f":"IF(O98=4,1,IF(O98=3,2,IF(O98=2,3,IF(O98=1,4,0))))","v":0},0,0,0,0,0,0,0,0]
[{"$f":"基礎データ!B32","v":28},0,0,{"$f":"IF(D99=0,0,D99)","v":0},0,0,0,0,0,0,0,0,0,0,{"$f":"IF(O99=4,1,IF(O99=3,2,IF(O99=2,3,IF(O99=1,4,0))))","v":0},0,0,0,0,0,0,0,0]
[{"$f":"基礎データ!B33","v":29},0,0,{"$f":"IF(D100=0,0,D100)","v":0},0,0,0,0,0,0,0,0,0,0,{"$f":"IF(O100=4,1,IF(O100=3,2,IF(O100=2,3,IF(O100=1,4,0))))","v":0},0,0,0,0,0,0,0,0]
[{"$f":"基礎データ!B34","v":30},0,0,{"$f":"IF(D101=0,0,D101)","v":0},0,0,0,0,0,0,0,0,0,0,{"$f":"IF(O101=4,1,IF(O101=3,2,IF(O101=2,3,IF(O101=1,4,0))))","v":0},0,0,0,0,0,0,0,0]
[{"$f":"基礎データ!B35","v":31},0,0,{"$f":"IF(D102=0,0,D102)","v":0},0,0,0,0,0,0,0,0,0,0,{"$f":"IF(O102=4,1,IF(O102=3,2,IF(O102=2,3,IF(O102=1,4,0))))","v":0},0,0,0,0,0,0,0,0]
[{"$f":"基礎データ!B36","v":32},0,0,{"$f":"IF(D103=0,0,D103)","v":0},0,0,0,0,0,0,0,0,0,0,{"$f":"IF(O103=4,1,IF(O103=3,2,IF(O103=2,3,IF(O103=1,4,0))))","v":0},0,0,0,0,0,0,0,0]
[{"$f":"基礎データ!B37","v":33},0,0,{"$f":"IF(D104=0,0,D104)","v":0},0,0,0,0,0,0,0,0,0,0,{"$f":"IF(O104=4,1,IF(O104=3,2,IF(O104=2,3,IF(O104=1,4,0))))","v":0},0,0,0,0,0,0,0,0]
[{"$f":"基礎データ!B38","v":34},0,0,{"$f":"IF(D105=0,0,D105)","v":0},0,0,0,0,0,0,0,0,0,0,{"$f":"IF(O105=4,1,IF(O105=3,2,IF(O105=2,3,IF(O105=1,4,0))))","v":0},0,0,0,0,0,0,0,0]
[{"$f":"基礎データ!B39","v":35},0,0,{"$f":"IF(D106=0,0,D106)","v":0},0,0,0,0,0,0,0,0,0,0,{"$f":"IF(O106=4,1,IF(O106=3,2,IF(O106=2,3,IF(O106=1,4,0))))","v":0},0,0,0,0,0,0,0,0]
[{"$f":"基礎データ!B40","v":36},0,0,{"$f":"IF(D107=0,0,D107)","v":0},0,0,0,0,0,0,0,0,0,0,{"$f":"IF(O107=4,1,IF(O107=3,2,IF(O107=2,3,IF(O107=1,4,0))))","v":0},0,0,0,0,0,0,0,0]
[{"$f":"基礎データ!B41","v":37},0,0,{"$f":"IF(D108=0,0,D108)","v":0},0,0,0,0,0,0,0,0,0,0,{"$f":"IF(O108=4,1,IF(O108=3,2,IF(O108=2,3,IF(O108=1,4,0))))","v":0},0,0,0,0,0,0,0,0]
[{"$f":"基礎データ!B42","v":38},0,0,{"$f":"IF(D109=0,0,D109)","v":0},0,0,0,0,0,0,0,0,0,0,{"$f":"IF(O109=4,1,IF(O109=3,2,IF(O109=2,3,IF(O109=1,4,0))))","v":0},0,0,0,0,0,0,0,0]
[{"$f":"基礎データ!B43","v":39},0,0,{"$f":"IF(D110=0,0,D110)","v":0},0,0,0,0,0,0,0,0,0,0,{"$f":"IF(O110=4,1,IF(O110=3,2,IF(O110=2,3,IF(O110=1,4,0))))","v":0},0,0,0,0,0,0,0,0]
[{"$f":"基礎データ!B44","v":40},0,0,{"$f":"IF(D111=0,0,D111)","v":0},0,0,0,0,0,0,0,0,0,0,{"$f":"IF(O111=4,1,IF(O111=3,2,IF(O111=2,3,IF(O111=1,4,0))))","v":0},0,0,0,0,0,0,0,0]
[{"$f":"基礎データ!B45","v":41},0,0,{"$f":"IF(D112=0,0,D112)","v":0},0,0,0,0,0,0,0,0,0,0,{"$f":"IF(O112=4,1,IF(O112=3,2,IF(O112=2,3,IF(O112=1,4,0))))","v":0},0,0,0,0,0,0,0,0]
[{"$f":"基礎データ!B46","v":42},0,0,{"$f":"IF(D113=0,0,D113)","v":0},0,0,0,0,0,0,0,0,0,0,{"$f":"IF(O113=4,1,IF(O113=3,2,IF(O113=2,3,IF(O113=1,4,0))))","v":0},0,0,0,0,0,0,0,0]
[{"$f":"基礎データ!B47","v":43},0,0,{"$f":"IF(D114=0,0,D114)","v":0},0,0,0,0,0,0,0,0,0,0,{"$f":"IF(O114=4,1,IF(O114=3,2,IF(O114=2,3,IF(O114=1,4,0))))","v":0},0,0,0,0,0,0,0,0]
[{"$f":"基礎データ!B48","v":44},0,0,{"$f":"IF(D115=0,0,D115)","v":0},0,0,0,0,0,0,0,0,0,0,{"$f":"IF(O115=4,1,IF(O115=3,2,IF(O115=2,3,IF(O115=1,4,0))))","v":0},0,0,0,0,0,0,0,0]
[{"$f":"基礎データ!B49","v":45},0,0,{"$f":"IF(D116=0,0,D116)","v":0},0,0,0,0,0,0,0,0,0,0,{"$f":"IF(O116=4,1,IF(O116=3,2,IF(O116=2,3,IF(O116=1,4,0))))","v":0},0,0,0,0,0,0,0,0]
["④ の数",null,null,{"$f":"COUNTIF(D$6:D$50,4)","v":0},{"$f":"COUNTIF(E$6:E$50,4)","v":0},0,0,0,0,0,0,0,0,0,0,0,0,0,0,0,0,0,0]
["③ の数",null,null,{"$f":"COUNTIF(D$6:D$50,3)","v":0},{"$f":"COUNTIF(E$6:E$50,3)","v":0},0,0,0,0,0,0,0,0,0,0,0,0,0,{"$f":"COUNTIF(S$6:S$50,3)","v":0},0,0,0,0]
["② の数",null,null,{"$f":"COUNTIF(D$6:D$50,2)","v":0},{"$f":"COUNTIF(E$6:E$50,2)","v":0},0,0,0,0,0,0,0,0,0,0,0,0,0,0,0,0,0,0]
["① の数",null,null,{"$f":"COUNTIF(D$6:D$50,1)","v":0},{"$f":"COUNTIF(E$6:E$50,1)","v":0},0,0,0,0,0,0,0,0,0,0,0,0,0,0,0,0,0,0]
["合計",null,null,{"$f":"SUM(D51:D54)","v":0},{"$f":"SUM(E51:E54)","v":0},0,0,{"$f":"SUM(H51:H54)","v":0},0,0,0,0,0,0,0,0,0,0,0,0,0,0,0]
["男子平均",null,{"$f":"COUNTIF($C$6:$C$50,1)","v":0},null,null,null,null,"平均",{"$f":"(I51*4+I52*3+I53*2+I54*1)/I55","v":{"$error":"#DIV/0!"}},{"$f":"(J51*4+J52*3+J53*2+J54*1)/J55","v":{"$error":"#DIV/0!"}},{"$error":"#DIV/0!"},{"$error":"#DIV/0!"},{"$error":"#DIV/0!"},{"$error":"#DIV/0!"},{"$error":"#DIV/0!"},{"$error":"#DIV/0!"},{"$error":"#DIV/0!"},{"$error":"#DIV/0!"},{"$error":"#DIV/0!"},{"$error":"#DIV/0!"},{"$error":"#DIV/0!"},{"$error":"#DIV/0!"},{"$error":"#DIV/0!"}]
["女子平均",null,{"$f":"COUNTIF($C$6:$C$50,2)","v":0}]
["全体平均",null,{"$f":"SUM(C56:C57)","v":0}]
[null,null,"↑"]
[null,null,"ここだけ人数"]
[]
[]
[]
[]
[]
[]
["１回目　集計表"]
[1,2,3,30,31,32,33,34,35,36,37,38,39,40,41,42,43,44,45,46,47,48,49]
["番号","氏名",null,1,2,3,4,5,6,7,8,9,10,11,12,13,14,15,16,17,18,19,20]
[null,null,"性別","ＳＮＳの１週間当たりの利用日数","平日にＳＮＳを利用する時間","ＳＮＳを使い始めてからの経験年月","ＳＮＳでメッセージのやり取りをするグループの数","普段、利用しているＳＮＳのメンバー","個人情報は出さないようにしている。","相手が不愉快な気持ちになるような内容は書かないようにしている。","メッセージを送る前に問題がないか確認をするようにしている。","長時間にならないようにメッセージのやり取りをしている。","メッセージのやり取りで嫌な気持ちになったときは、直接、会話で気持ちを伝えるようにしている。","友達とのやり取りで困ったときは親や先生に相談するようにしている。","友達とメッセージのやり取りをすることで友達の気持ちを確かめることができる。","友達とメッセージのやり取りをすることで、友達とのつながりをもてる。","友達とメッセージのやり取りをすることで、寂しさをすぐにまぎらわすことができる。","メッセージがきたらすぐに返事をする。","友達から送られてくるメッセージをチェックする。","メッセージのやり取りをなかなか終わらせられない。","自分が送信したメッセージに対する反応がない。","メッセージの送信後，「あの伝え方でよかったのだろうか」と悩む。","知らないところで自分のことについてメッセージのやり取りをしているのではないかと心配になる。"]
[]
[{"$f":"基礎データ!B5","v":1},{"$f":"基礎データ!C5","v":0},{"$f":"基礎データ!D5","v":0}]
[{"$f":"基礎データ!B6","v":2},{"$f":"基礎データ!C6","v":0},{"$f":"基礎データ!D6","v":0}]
[{"$f":"基礎データ!B7","v":3},{"$f":"基礎データ!C7","v":0},{"$f":"基礎データ!D7","v":0}]
[{"$f":"基礎データ!B8","v":4},{"$f":"基礎データ!C8","v":0},{"$f":"基礎データ!D8","v":0}]
[{"$f":"基礎データ!B9","v":5},{"$f":"基礎データ!C9","v":0},{"$f":"基礎データ!D9","v":0}]
[{"$f":"基礎データ!B10","v":6},{"$f":"基礎データ!C10","v":0},{"$f":"基礎データ!D10","v":0}]
[{"$f":"基礎データ!B11","v":7},{"$f":"基礎データ!C11","v":0},{"$f":"基礎データ!D11","v":0}]
[{"$f":"基礎データ!B12","v":8},{"$f":"基礎データ!C12","v":0},{"$f":"基礎データ!D12","v":0}]
[{"$f":"基礎データ!B13","v":9},{"$f":"基礎データ!C13","v":0},{"$f":"基礎データ!D13","v":0}]
[{"$f":"基礎データ!B14","v":10},{"$f":"基礎データ!C14","v":0},{"$f":"基礎データ!D14","v":0}]
[{"$f":"基礎データ!B15","v":11},{"$f":"基礎データ!C15","v":0},{"$f":"基礎データ!D15","v":0}]
[{"$f":"基礎データ!B16","v":12},{"$f":"基礎データ!C16","v":0},{"$f":"基礎データ!D16","v":0}]
[{"$f":"基礎データ!B17","v":13},{"$f":"基礎データ!C17","v":0},{"$f":"基礎データ!D17","v":0}]
[{"$f":"基礎データ!B18","v":14},{"$f":"基礎データ!C18","v":0},{"$f":"基礎データ!D18","v":0}]
[{"$f":"基礎データ!B19","v":15},{"$f":"基礎データ!C19","v":0},{"$f":"基礎データ!D19","v":0}]
[{"$f":"基礎データ!B20","v":16},{"$f":"基礎データ!C20","v":0},{"$f":"基礎データ!D20","v":0}]
[{"$f":"基礎データ!B21","v":17},{"$f":"基礎データ!C21","v":0},{"$f":"基礎データ!D21","v":0}]
[{"$f":"基礎データ!B22","v":18},{"$f":"基礎データ!C22","v":0},{"$f":"基礎データ!D22","v":0}]
[{"$f":"基礎データ!B23","v":19},{"$f":"基礎データ!C23","v":0},{"$f":"基礎データ!D23","v":0}]
[{"$f":"基礎データ!B24","v":20},{"$f":"基礎データ!C24","v":0},{"$f":"基礎データ!D24","v":0}]
[{"$f":"基礎データ!B25","v":21},{"$f":"基礎データ!C25","v":0},{"$f":"基礎データ!D25","v":0}]
[{"$f":"基礎データ!B26","v":22},{"$f":"基礎データ!C26","v":0},{"$f":"基礎データ!D26","v":0}]
[{"$f":"基礎データ!B27","v":23},{"$f":"基礎データ!C27","v":0},{"$f":"基礎データ!D27","v":0}]
[{"$f":"基礎データ!B28","v":24},{"$f":"基礎データ!C28","v":0},{"$f":"基礎データ!D28","v":0}]
[{"$f":"基礎データ!B29","v":25},{"$f":"基礎データ!C29","v":0},{"$f":"基礎データ!D29","v":0}]
[{"$f":"基礎データ!B30","v":26},{"$f":"基礎データ!C30","v":0},{"$f":"基礎データ!D30","v":0}]
[{"$f":"基礎データ!B31","v":27},{"$f":"基礎データ!C31","v":0},{"$f":"基礎データ!D31","v":0}]
[{"$f":"基礎データ!B32","v":28},{"$f":"基礎データ!C32","v":0},{"$f":"基礎データ!D32","v":0}]
[{"$f":"基礎データ!B33","v":29},{"$f":"基礎データ!C33","v":0},{"$f":"基礎データ!D33","v":0}]
[{"$f":"基礎データ!B34","v":30},{"$f":"基礎データ!C34","v":0},{"$f":"基礎データ!D34","v":0}]
[{"$f":"基礎データ!B35","v":31},{"$f":"基礎データ!C35","v":0},{"$f":"基礎データ!D35","v":0}]
[{"$f":"基礎データ!B36","v":32},{"$f":"基礎データ!C36","v":0},{"$f":"基礎データ!D36","v":0}]
[{"$f":"基礎データ!B37","v":33},{"$f":"基礎データ!C37","v":0},{"$f":"基礎データ!D37","v":0}]
[{"$f":"基礎データ!B38","v":34},{"$f":"基礎データ!C38","v":0},{"$f":"基礎データ!D38","v":0}]
[{"$f":"基礎データ!B39","v":35},{"$f":"基礎データ!C39","v":0},{"$f":"基礎データ!D39","v":0}]
[{"$f":"基礎データ!B40","v":36},{"$f":"基礎データ!C40","v":0},{"$f":"基礎データ!D40","v":0}]
[{"$f":"基礎データ!B41","v":37},{"$f":"基礎データ!C41","v":0},{"$f":"基礎データ!D41","v":0}]
[{"$f":"基礎データ!B42","v":38},{"$f":"基礎データ!C42","v":0},{"$f":"基礎データ!D42","v":0}]
[{"$f":"基礎データ!B43","v":39},{"$f":"基礎データ!C43","v":0},{"$f":"基礎データ!D43","v":0}]
[{"$f":"基礎データ!B44","v":40},{"$f":"基礎データ!C44","v":0},{"$f":"基礎データ!D44","v":0}]
[{"$f":"基礎データ!B45","v":41},{"$f":"基礎データ!C45","v":0},{"$f":"基礎データ!D45","v":0}]
[{"$f":"基礎データ!B46","v":42},{"$f":"基礎データ!C46","v":0},{"$f":"基礎データ!D46","v":0}]
[{"$f":"基礎データ!B47","v":43},{"$f":"基礎データ!C47","v":0},{"$f":"基礎データ!D47","v":0}]
[{"$f":"基礎データ!B48","v":44},{"$f":"基礎データ!C48","v":0},{"$f":"基礎データ!D48","v":0}]
[{"$f":"基礎データ!B49","v":45},{"$f":"基礎データ!C49","v":0},{"$f":"基礎データ!D49","v":0}]

{"sheet":"2回目　集計表","index":2,"n_rows":116,"n_cols":23,"rows_kept":116,"cut":false,"hidden":false,"merged":[[50,0,50,1],[51,0,51,1],[52,0,52,1],[53,0,53,1],[3,15,4,15],[3,11,4,11],[3,12,4,12],[3,13,4,13],[3,14,4,14],[2,0,4,0],[2,1,4,1],[3,7,4,7],[3,8,4,8],[3,9,4,9],[3,10,4,10],[2,2,4,2],[54,0,54,1],[55,0,55,1],[56,0,56,1],[57,0,57,1],[66,0,66,2],[69,3,70,3],[69,4,70,4],[69,5,70,5],[68,0,70,0],[68,1,70,1],[69,6,70,6],[69,7,70,7],[69,8,70,8],[69,9,70,9],[69,10,70,10],[69,22,70,22],[69,12,70,12],[69,13,70,13],[69,14,70,14],[69,15,70,15],[69,16,70,16],[69,17,70,17],[69,18,70,18],[69,11,70,11],[66,3,66,22],[3,21,4,21],[3,22,4,22],[3,16,4,16],[3,17,4,17],[3,18,4,18],[3,19,4,19],[3,20,4,20],[3,3,4,3],[3,4,4,4],[3,5,4,5],[3,6,4,6],[69,19,70,19],[69,20,70,20],[69,21,70,21]]}
[]
[1,2,3,4,5,6,7,8,9,10,11,12,13,14,15,16,17,18,19,20,21,22,23]
["番号","氏名","性別\n\n男１\n女２",1,2,3,4,5,6,7,8,9,10,11,12,13,14,15,16,17,18,19,20]
[null,null,null,"ＳＮＳの１週間当たりの利用日数","平日にＳＮＳを利用する時間","ＳＮＳを使い始めてからの経験年月","ＳＮＳでメッセージのやり取りをする友達の人数","ＳＮＳでメッセージのやり取りをするグループの数","個人情報は出さないようにしている。","相手が不愉快な気持ちになるような内容は書かないようにしている。","メッセージを送る前に問題がないか確認をするようにしている。","長時間にならないようにメッセージのやり取りをしている。","メッセージのやり取りで嫌な気持ちになったときは、直接、会話で気持ちを伝えるようにしている。","友達とのやり取りで困ったときは親や先生に相談するようにしている。","友達とメッセージのやり取りをすることで友達の気持ちを確かめることができる。","友達とメッセージのやり取りをすることで、友達とのつながりをもてる。","友達とメッセージのやり取りをすることで、寂しさをすぐにまぎらわすことができる。","メッセージがきたらすぐに返事をする。","友達から送られてくるメッセージをチェックする。","メッセージのやり取りをなかなか終わらせられない。","自分が送信したメッセージに対する反応がない。","メッセージの送信後，「あの伝え方でよかったのだろうか」と悩む。","知らないところで自分のことについてメッセージのやり取りをしているのではないかと心配になる。"]
[]
[1,{"$f":"B72","v":0},{"$f":"IF(C72=\"男\",1,IF(C72=\"女\",2,0))","v":0},{"$f":"IF(D72=0,0,D72)","v":0},0,0,0,0,0,0,0,0,0,0,{"$f":"IF(O72=4,1,IF(O72=3,2,IF(O72=2,3,IF(O72=1,4,0))))","v":0},0,0,0,0,0,0,0,0]
[2,{"$f":"B73","v":0},{"$f":"IF(C73=\"男\",1,IF(C73=\"女\",2,0))","v":0},0,0,0,0,0,0,0,0,0,0,0,0,0,0,0,0,0,0,0,0]
[3,0,0,0,0,0,0,0,0,0,0,0,0,0,0,0,0,0,0,0,0,0,0]
[4,0,0,0,0,0,0,0,0,0,0,0,0,0,0,0,0,0,0,0,0,0,0]
[5,0,0,0,0,0,0,0,0,0,0,0,0,0,0,0,0,0,0,0,0,0,0]
[6,0,0,0,0,0,0,0,0,0,0,0,0,0,0,0,0,0,0,0,0,0,0]
[7,0,0,0,0,0,0,0,0,0,0,0,0,0,0,0,0,0,0,0,0,0,0]
[8,0,0,0,0,0,0,0,0,0,0,0,0,0,0,0,0,0,0,0,0,0,0]
[9,0,0,0,0,0,0,0,0,0,0,0,0,0,0,0,0,0,0,0,0,0,0]
[10,0,0,0,0,0,0,0,0,0,0,0,0,0,0,0,0,0,0,0,0,0,0]
[11,0,0,0,0,0,0,0,0,0,0,0,0,0,0,0,0,0,0,0,0,0,0]
[12,0,0,0,0,0,0,0,0,0,0,0,0,0,0,0,0,0,0,0,0,0,0]
[13,0,0,0,0,0,0,0,0,0,0,0,0,0,0,0,0,0,0,0,0,0,0]
[14,0,0,0,0,0,0,0,0,0,0,0,0,0,0,0,0,0,0,0,0,0,0]
[15,0,0,0,0,0,0,0,0,0,0,0,0,0,0,0,0,0,0,0,0,0,0]
[16,0,0,0,0,0,0,0,0,0,0,0,0,0,0,0,0,0,0,0,0,0,0]
[17,0,0,{"$f":"IF(D88=0,0,D88)","v":0},0,0,0,0,0,0,0,0,0,0,{"$f":"IF(O88=4,1,IF(O88=3,2,IF(O88=2,3,IF(O88=1,4,0))))","v":0},0,0,0,0,0,0,0,0]
[18,0,0,0,0,0,0,0,0,0,0,0,0,0,0,0,0,0,0,0,0,0,0]
[19,0,0,0,0,0,0,0,0,0,0,0,0,0,0,0,0,0,0,0,0,0,0]
[20,0,0,0,0,0,0,0,0,0,0,0,0,0,0,0,0,0,0,0,0,0,0]
[21,0,0,0,0,0,0,0,0,0,0,0,0,0,0,0,0,0,0,0,0,0,0]
[22,0,0,0,0,0,0,0,0,0,0,0,0,0,0,0,0,0,0,0,0,0,0]
[23,0,0,0,0,0,0,0,0,0,0,0,0,0,0,0,0,0,0,0,0,0,0]
[24,0,0,0,0,0,0,0,0,0,0,0,0,0,0,0,0,0,0,0,0,0,0]
[25,0,0,0,0,0,0,0,0,0,0,0,0,0,0,0,0,0,0,0,0,0,0]
[26,0,0,0,0,0,0,0,0,0,0,0,0,0,0,0,0,0,0,0,0,0,0]
[27,0,0,0,0,0,0,0,0,0,0,0,0,0,0,0,0,0,0,0,0,0,0]
[28,0,0,0,0,0,0,0,0,0,0,0,0,0,0,0,0,0,0,0,0,0,0]
[29,0,0,0,0,0,0,0,0,0,0,0,0,0,0,0,0,0,0,0,0,0,0]
[30,0,0,0,0,0,0,0,0,0,0,0,0,0,0,0,0,0,0,0,0,0,0]
[31,0,0,0,0,0,0,0,0,0,0,0,0,0,0,0,0,0,0,0,0,0,0]
[32,0,0,0,0,0,0,0,0,0,0,0,0,0,0,0,0,0,0,0,0,0,0]
[33,0,0,{"$f":"IF(D104=0,0,D104)","v":0},0,0,0,0,0,0,0,0,0,0,{"$f":"IF(O104=4,1,IF(O104=3,2,IF(O104=2,3,IF(O104=1,4,0))))","v":0},0,0,0,0,0,0,0,0]
[34,0,0,0,0,0,0,0,0,0,0,0,0,0,0,0,0,0,0,0,0,0,0]
[35,0,0,0,0,0,0,0,0,0,0,0,0,0,0,0,0,0,0,0,0,0,0]
[36,0,0,0,0,0,0,0,0,0,0,0,0,0,0,0,0,0,0,0,0,0,0]
[37,0,0,0,0,0,0,0,0,0,0,0,0,0,0,0,0,0,0,0,0,0,0]
[38,0,0,0,0,0,0,0,0,0,0,0,0,0,0,0,0,0,0,0,0,0,0]
[39,0,0,0,0,0,0,0,0,0,0,0,0,0,0,0,0,0,0,0,0,0,0]
[40,0,0,0,0,0,0,0,0,0,0,0,0,0,0,0,0,0,0,0,0,0,0]
[41,0,0,0,0,0,0,0,0,0,0,0,0,0,0,0,0,0,0,0,0,0,0]
[42,0,0,0,0,0,0,0,0,0,0,0,0,0,0,0,0,0,0,0,0,0,0]
[43,0,0,0,0,0,0,0,0,0,0,0,0,0,0,0,0,0,0,0,0,0,0]
[44,0,0,0,0,0,0,0,0,0,0,0,0,0,0,0,0,0,0,0,0,0,0]
[45,0,0,0,0,0,0,0,0,0,0,0,0,0,0,0,0,0,0,0,0,0,0]
["④ の数",null,null,{"$f":"COUNTIF(D$6:D$50,4)","v":0},{"$f":"COUNTIF(E$6:E$50,4)","v":0},0,0,0,0,0,0,0,0,0,0,0,0,0,0,0,0,0,0]
["③ の数",null,null,{"$f":"COUNTIF(D$6:D$50,3)","v":0},{"$f":"COUNTIF(E$6:E$50,3)","v":0},0,0,0,0,0,0,0,0,0,0,0,0,0,{"$f":"COUNTIF(S$6:S$50,3)","v":0},0,0,0,0]
["② の数",null,null,{"$f":"COUNTIF(D$6:D$50,2)","v":0},{"$f":"COUNTIF(E$6:E$50,2)","v":0},0,0,0,0,0,0,0,0,0,0,0,0,0,0,0,0,0,0]
["① の数",null,null,{"$f":"COUNTIF(D$6:D$50,1)","v":0},{"$f":"COUNTIF(E$6:E$50,1)","v":0},0,0,0,0,0,0,0,0,0,0,0,0,0,0,0,0,0,0]
["合計",null,null,{"$f":"SUM(D51:D54)","v":0},{"$f":"SUM(E51:E54)","v":0},0,0,{"$f":"SUM(H51:H54)","v":0},0,0,0,0,0,0,0,0,0,0,0,0,0,0,0]
["男子平均",null,{"$f":"COUNTIF($C$6:$C$50,1)","v":0},null,null,null,null,"平均",{"$f":"(I51*4+I52*3+I53*2+I54*1)/I55","v":{"$error":"#DIV/0!"}},{"$f":"(J51*4+J52*3+J53*2+J54*1)/J55","v":{"$error":"#DIV/0!"}},{"$error":"#DIV/0!"},{"$error":"#DIV/0!"},{"$error":"#DIV/0!"},{"$error":"#DIV/0!"},{"$error":"#DIV/0!"},{"$error":"#DIV/0!"},{"$error":"#DIV/0!"},{"$error":"#DIV/0!"},{"$error":"#DIV/0!"},{"$error":"#DIV/0!"},{"$error":"#DIV/0!"},{"$error":"#DIV/0!"},{"$error":"#DIV/0!"}]
["女子平均",null,{"$f":"COUNTIF($C$6:$C$50,2)","v":0}]
["全体平均",null,{"$f":"SUM(C56:C57)","v":0}]
[null,null,"↑"]
[null,null,"ここだけ人数"]
[]
[]
[]
[]
[]
[]
["２回目　集計表"]
[1,2,3,30,31,32,33,34,35,36,37,38,39,40,41,42,43,44,45,46,47,48,49]
["番号","氏名",null,1,2,3,4,5,6,7,8,9,10,11,12,13,14,15,16,17,18,19,20]
[null,null,"性別","ＳＮＳの１週間当たりの利用日数","平日にＳＮＳを利用する時間","ＳＮＳを使い始めてからの経験年月","ＳＮＳでメッセージのやり取りをするグループの数","普段、利用しているＳＮＳのメンバー","個人情報は出さないようにしている。","相手が不愉快な気持ちになるような内容は書かないようにしている。","メッセージを送る前に問題がないか確認をするようにしている。","長時間にならないようにメッセージのやり取りをしている。","メッセージのやり取りで嫌な気持ちになったときは、直接、会話で気持ちを伝えるようにしている。","友達とのやり取りで困ったときは親や先生に相談するようにしている。","友達とメッセージのやり取りをすることで友達の気持ちを確かめることができる。","友達とメッセージのやり取りをすることで、友達とのつながりをもてる。","友達とメッセージのやり取りをすることで、寂しさをすぐにまぎらわすことができる。","メッセージがきたらすぐに返事をする。","友達から送られてくるメッセージをチェックする。","メッセージのやり取りをなかなか終わらせられない。","自分が送信したメッセージに対する反応がない。","メッセージの送信後，「あの伝え方でよかったのだろうか」と悩む。","知らないところで自分のことについてメッセージのやり取りをしているのではないかと心配になる。"]
[]
[1,{"$f":"基礎データ!C5","v":0},{"$f":"基礎データ!D5","v":0}]
[2,{"$f":"基礎データ!C6","v":0},{"$f":"基礎データ!D6","v":0}]
[3,{"$f":"基礎データ!C7","v":0},{"$f":"基礎データ!D7","v":0}]
[4,{"$f":"基礎データ!C8","v":0},{"$f":"基礎データ!D8","v":0}]
[5,{"$f":"基礎データ!C9","v":0},{"$f":"基礎データ!D9","v":0}]
[6,{"$f":"基礎データ!C10","v":0},{"$f":"基礎データ!D10","v":0}]
[7,{"$f":"基礎データ!C11","v":0},{"$f":"基礎データ!D11","v":0}]
[8,{"$f":"基礎データ!C12","v":0},{"$f":"基礎データ!D12","v":0}]
[9,{"$f":"基礎データ!C13","v":0},{"$f":"基礎データ!D13","v":0}]
[10,{"$f":"基礎データ!C14","v":0},{"$f":"基礎データ!D14","v":0}]
[11,{"$f":"基礎データ!C15","v":0},{"$f":"基礎データ!D15","v":0}]
[12,{"$f":"基礎データ!C16","v":0},{"$f":"基礎データ!D16","v":0}]
[13,{"$f":"基礎データ!C17","v":0},{"$f":"基礎データ!D17","v":0}]
[14,{"$f":"基礎データ!C18","v":0},{"$f":"基礎データ!D18","v":0}]
[15,{"$f":"基礎データ!C19","v":0},{"$f":"基礎データ!D19","v":0}]
[16,{"$f":"基礎データ!C20","v":0},{"$f":"基礎データ!D20","v":0}]
[17,{"$f":"基礎データ!C21","v":0},{"$f":"基礎データ!D21","v":0}]
[18,{"$f":"基礎データ!C22","v":0},{"$f":"基礎データ!D22","v":0}]
[19,{"$f":"基礎データ!C23","v":0},{"$f":"基礎データ!D23","v":0}]
[20,{"$f":"基礎データ!C24","v":0},{"$f":"基礎データ!D24","v":0}]
[21,{"$f":"基礎データ!C25","v":0},{"$f":"基礎データ!D25","v":0}]
[22,{"$f":"基礎データ!C26","v":0},{"$f":"基礎データ!D26","v":0}]
[23,{"$f":"基礎データ!C27","v":0},{"$f":"基礎データ!D27","v":0}]
[24,{"$f":"基礎データ!C28","v":0},{"$f":"基礎データ!D28","v":0}]
[25,{"$f":"基礎データ!C29","v":0},{"$f":"基礎データ!D29","v":0}]
[26,{"$f":"基礎データ!C30","v":0},{"$f":"基礎データ!D30","v":0}]
[27,{"$f":"基礎データ!C31","v":0},{"$f":"基礎データ!D31","v":0}]
[28,{"$f":"基礎データ!C32","v":0},{"$f":"基礎データ!D32","v":0}]
[29,{"$f":"基礎データ!C33","v":0},{"$f":"基礎データ!D33","v":0}]
[30,{"$f":"基礎データ!C34","v":0},{"$f":"基礎データ!D34","v":0}]
[31,{"$f":"基礎データ!C35","v":0},{"$f":"基礎データ!D35","v":0}]
[32,{"$f":"基礎データ!C36","v":0},{"$f":"基礎データ!D36","v":0}]
[33,{"$f":"基礎データ!C37","v":0},{"$f":"基礎データ!D37","v":0}]
[34,{"$f":"基礎データ!C38","v":0},{"$f":"基礎データ!D38","v":0}]
[35,{"$f":"基礎データ!C39","v":0},{"$f":"基礎データ!D39","v":0}]
[36,{"$f":"基礎データ!C40","v":0},{"$f":"基礎データ!D40","v":0}]
[37,{"$f":"基礎データ!C41","v":0},{"$f":"基礎データ!D41","v":0}]
[38,{"$f":"基礎データ!C42","v":0},{"$f":"基礎データ!D42","v":0}]
[39,{"$f":"基礎データ!C43","v":0},{"$f":"基礎データ!D43","v":0}]
[40,{"$f":"基礎データ!C44","v":0},{"$f":"基礎データ!D44","v":0}]
[41,{"$f":"基礎データ!C45","v":0},{"$f":"基礎データ!D45","v":0}]
[42,{"$f":"基礎データ!C46","v":0},{"$f":"基礎データ!D46","v":0}]
[43,{"$f":"基礎データ!C47","v":0},{"$f":"基礎データ!D47","v":0}]
[44,{"$f":"基礎データ!C48","v":0},{"$f":"基礎データ!D48","v":0}]
[45,{"$f":"基礎データ!C49","v":0},{"$f":"基礎データ!D49","v":0}]

{"sheet":"ＳＮＳ個票","index":3,"n_rows":72,"n_cols":52,"rows_kept":72,"cut":false,"hidden":false,"merged":[[62,3,62,4],[62,7,62,8],[57,24,57,25],[57,28,57,29],[68,28,68,29],[68,32,68,33],[68,7,68,8],[68,12,68,13],[62,33,62,34],[62,29,62,30],[1,25,1,26],[1,28,1,29],[1,31,1,32],[0,0,0,36],[2,31,2,32],[2,19,2,22],[2,23,2,24],[2,25,2,26],[2,28,2,29],[1,5,1,6],[1,9,1,10],[1,11,1,17],[1,19,1,22],[1,23,1,24],[3,2,4,10],[9,1,9,2],[9,3,9,19],[5,21,5,28],[5,30,5,35],[8,1,8,2],[7,1,7,2],[7,3,7,19],[8,3,8,19],[9,30,9,35],[9,21,9,28],[7,21,7,28],[7,30,7,35],[8,21,8,28],[8,30,8,35],[13,2,14,12],[51,2,52,10],[10,21,10,28],[10,30,10,35],[11,21,11,28],[11,30,11,35],[15,2,16,2],[10,1,10,2],[11,1,11,2],[10,3,10,19],[11,3,11,19]]}
["「ＳＮＳチェックシート」　－個票－"]
[null,{"$f":"基礎データ!G3","v":0},"年",{"$f":"基礎データ!I3","v":0},"組",{"$f":"AS4","v":1},null,"番",null,"氏名",null,{"$f":"VLOOKUP(F2,基礎データ!B5:C45,2)","v":0},null,null,null,null,null,null,null,"１回目",null,null,null,"令和",null,{"$f":"基礎データ!H5","v":"元"},null,"年",{"$f":"基礎データ!J5","v":4},null,"月",{"$f":"基礎データ!L5","v":4},null,"日"]
[null,null,null,null,null,null,null,null,null,null,null,null,null,null,null,null,null,null,null,"２回目",null,null,null,"令和",null,{"$f":"基礎データ!H6","v":2},null,"年",{"$f":"基礎データ!J6","v":5},null,"月",{"$f":"基礎データ!L6","v":5},null,"日",null,null,null,null,"※裏表印刷の設定をする"]
[null,null,"【　ＳＮＳの利用実態　】",null,null,null,null,null,null,null,null,null,null,null,null,null,null,null,null,null,null,null,null,null,null,null,null,null,null,null,null,null,null,null,null,null,null,null,null,null,null,null,1,38,1]
[null,null,null,null,null,null,null,null,null,null,null,null,null,null,null,null,null,null,null,null,null,null,null,null,null,null,null,null,null,null,null,null,null,null,null,null,null,null,null,null,null,null,"開始","終了","開始"]
[null,null,null,null,null,null,null,null,null,null,null,null,null,null,null,null,null,null,null,null,null,"１回目調査",null,null,null,null,null,null,null,null,"２回目調査"]
[]
[null,"（１）",null,"ＳＮＳの１週間当たりの利用日数",null,null,null,null,null,null,null,null,null,null,null,null,null,null,null,null,null,{"$f":"AN8","v":0},null,null,null,null,null,null,null,"⇒",{"$f":"AV8","v":0},null,null,null,null,null,null,{"$f":"VLOOKUP($F$2,'1回目　集計表'!$A$6:$W$50,4,1)","v":0},"・",{"$f":"IF(AL8=1,\"ほとんど使わない\",IF(AL8=2,\"あまり使わない\",IF(AL8=3,\"ときどき使う\",IF(AL8=4,\"ほぼ毎日使う\",))))","v":0},null,null,null,null,null,{"$f":"VLOOKUP($F$2,'2回目　集計表'!$A$6:$W$50,4,1)","v":0},"・",{"$f":"IF(AT8=1,\"ほとんど使わない\",IF(AT8=2,\"あまり使わない\",IF(AT8=3,\"ときどき使う\",IF(AT8=4,\"ほぼ毎日使う\",))))","v":0}]
[null,"（２）",null,"平日にＳＮＳを利用する時間",null,null,null,null,null,null,null,null,null,null,null,null,null,null,null,null,null,{"$f":"AN9","v":0},null,null,null,null,null,null,null,"⇒",{"$f":"AV9","v":0},null,null,null,null,null,null,{"$f":"VLOOKUP($F$2,'1回目　集計表'!$A$6:$W$50,5,1)","v":0},"・",{"$f":"IF(AL9=1,\"30分未満\",IF(AL9=2,\"30分～１時間未満\",IF(AL9=3,\"１～２時間未満\",IF(AL9=4,\"２時間以上\",))))","v":0},null,null,null,null,null,{"$f":"VLOOKUP($F$2,'2回目　集計表'!$A$6:$W$50,5,1)","v":0},"・",{"$f":"IF(AT9=1,\"30分未満\",IF(AT9=2,\"30分～１時間未満\",IF(AT9=3,\"１～２時間未満\",IF(AT9=4,\"２時間以上\",))))","v":0}]
[null,"（３）",null,"ＳＮＳを使い始めてからの経験年月",null,null,null,null,null,null,null,null,null,null,null,null,null,null,null,null,null,{"$f":"AN10","v":0},null,null,null,null,null,null,null,"⇒",{"$f":"AV10","v":0},null,null,null,null,null,null,{"$f":"VLOOKUP($F$2,'1回目　集計表'!$A$6:$W$50,6,1)","v":0},"・",{"$f":"IF(AL10=1,\"６か月未満\",IF(AL10=2,\"６か月～１年\",IF(AL10=3,\"１～２年\",IF(AL10=4,\"２年以上\",))))","v":0},null,null,null,null,null,{"$f":"VLOOKUP($F$2,'2回目　集計表'!$A$6:$W$50,6,1)","v":0},"・",{"$f":"IF(AT10=1,\"６か月未満\",IF(AT10=2,\"６か月～１年\",IF(AT10=3,\"１～２年\",IF(AT10=4,\"２年以上\",))))","v":0}]
[null,"（４）",null,"ＳＮＳでメッセージのやり取りをするグループの数",null,null,null,null,null,null,null,null,null,null,null,null,null,null,null,null,null,{"$f":"AN11","v":0},null,null,null,null,null,null,null,"⇒",{"$f":"AV11","v":0},null,null,null,null,null,null,{"$f":"VLOOKUP($F$2,'1回目　集計表'!$A$6:$W$50,7,1)","v":0},"・",{"$f":"IF(AL11=1,\"グループチャットはしない\",IF(AL11=2,\"１～10グループ\",IF(AL11=3,\"11～20グループ\",IF(AL11=4,\"21グループ以上\",))))","v":0},null,null,null,null,null,{"$f":"VLOOKUP($F$2,'2回目　集計表'!$A$6:$W$50,7,1)","v":0},"・",{"$f":"IF(AT11=1,\"グループチャットはしない\",IF(AT11=2,\"１～10グループ\",IF(AT11=3,\"11～20グループ\",IF(AT11=4,\"21グループ以上\",))))","v":0}]
[null,"（５）",null,"普段，利用しているＳＮＳのメンバー",null,null,null,null,null,null,null,null,null,null,null,null,null,null,null,null,null,{"$f":"AN12","v":0},null,null,null,null,null,null,null,"⇒",{"$f":"AV12","v":0},null,null,null,null,null,null,{"$f":"VLOOKUP($F$2,'1回目　集計表'!$A$6:$W$50,8,1)","v":0},"・",{"$f":"IF(AL12=1,\"ほとんどが学校内のメンバー\",IF(AL12=2,\"学校内のメンバーが半分より多い\",IF(AL12=3,\"学校外のメンバーが半分より多い\",IF(AL12=4,\"ほとんどが学校外のメンバー\",))))","v":0},null,null,null,null,null,{"$f":"VLOOKUP($F$2,'2回目　集計表'!$A$6:$W$50,8,1)","v":0},"・",{"$f":"IF(AT12=1,\"ほとんどが学校内のメンバー\",IF(AT12=2,\"学校内のメンバーが半分より多い\",IF(AT12=3,\"学校外のメンバーが半分より多い\",IF(AT12=4,\"ほとんどが学校外のメンバー\",))))","v":0}]
[]
[null,null,"【　ＳＮＳ観点の下位項目　】"]
[]
[]
[]
[null,null,null,null,null,null,null,null,null,null,null,null,null,null,null,null,null,null,null,null,null,null,null,null,null,null,null,null,null,null,null,null,null,null,null,null,null,null,null,null,null,null,null,null,"『ＳＮＳをめぐるトラブル』への備えの意識\n"]
[null,null,null,null,null,null,null,null,null,null,null,null,null,null,null,null,null,null,null,null,null,null,null,null,null,null,null,null,null,null,null,null,null,null,null,null,null,null,null,null,null,null,null,null,"質問項目","１回目","２回目","横軸","Y軸"]
[null,null,null,null,null,null,null,null,null,null,null,null,null,null,null,null,null,null,null,null,null,null,null,null,null,null,null,null,null,null,null,null,null,null,null,null,null,null,null,null,null,null,null,null,"（６）",{"$f":"VLOOKUP($F$2,'1回目　集計表'!$A$6:$W$50,9,1)","v":0},{"$f":"VLOOKUP($F$2,'2回目　集計表'!$A$6:$W$50,9,1)","v":0},0,4]
[null,null,null,null,null,null,null,null,null,null,null,null,null,null,null,null,null,null,null,null,null,null,null,null,null,null,null,null,null,null,null,null,null,null,null,null,null,null,null,null,null,null,null,null,"（７）",{"$f":"VLOOKUP($F$2,'1回目　集計表'!$A$6:$W$50,10,1)","v":0},{"$f":"VLOOKUP($F$2,'2回目　集計表'!$A$6:$W$50,10,1)","v":0},0,3]
[null,null,null,null,null,null,null,null,null,null,null,null,null,null,null,null,null,null,null,null,null,null,null,null,null,null,null,null,null,null,null,null,null,null,null,null,null,null,null,null,null,null,null,null,"（８）",{"$f":"VLOOKUP($F$2,'1回目　集計表'!$A$6:$W$50,11,1)","v":0},{"$f":"VLOOKUP($F$2,'2回目　集計表'!$A$6:$W$50,11,1)","v":0},0,2]
[null,null,null,null,null,null,null,null,null,null,null,null,null,null,null,null,null,null,null,null,null,null,null,null,null,null,null,null,null,null,null,null,null,null,null,null,null,null,null,null,null,null,null,null,"（９）",{"$f":"VLOOKUP($F$2,'1回目　集計表'!$A$6:$W$50,12,1)","v":0},{"$f":"VLOOKUP($F$2,'2回目　集計表'!$A$6:$W$50,12,1)","v":0},0,1]
[null,null,null,null,null,null,null,null,null,null,null,null,null,null,null,null,null,null,null,null,null,null,null,null,null,null,null,null,null,null,null,null,null,null,null,null,null,null,null,null,null,null,null,null,null,{"$f":"SUM(AT20:AT23)","v":0},{"$f":"SUM(AU20:AU23)","v":0}]
[null,null,null,null,null,null,null,null,null,null,null,null,null,null,null,null,null,null,null,null,null,null,null,null,null,null,null,null,null,null,null,null,null,null,null,null,null,null,null,null,null,null,null,null,"『ＳＮＳをめぐるトラブル』への発生後の対処の意識"]
[null,null,null,null,null,null,null,null,null,null,null,null,null,null,null,null,null,null,null,null,null,null,null,null,null,null,null,null,null,null,null,null,null,null,null,null,null,null,null,null,null,null,null,null,"質問項目","１回目","2回目","横軸","Y軸"]
[null,null,null,null,null,null,null,null,null,null,null,null,null,null,null,null,null,null,null,null,null,null,null,null,null,null,null,null,null,null,null,null,null,null,null,null,null,null,null,null,null,null,null,null,"（10）",{"$f":"VLOOKUP($F$2,'1回目　集計表'!$A$6:$W$50,13,1)","v":0},{"$f":"VLOOKUP($F$2,'2回目　集計表'!$A$6:$W$50,13,1)","v":0},0,2]
[null,null,null,null,null,null,null,null,null,null,null,null,null,null,null,null,null,null,null,null,null,null,null,null,null,null,null,null,null,null,null,null,null,null,null,null,null,null,null,null,null,null,null,null,"（11）",{"$f":"VLOOKUP($F$2,'1回目　集計表'!$A$6:$W$50,14,1)","v":0},{"$f":"VLOOKUP($F$2,'2回目　集計表'!$A$6:$W$50,14,1)","v":0},0,1]
[null,null,null,null,null,null,null,null,null,null,null,null,null,null,null,null,null,null,null,null,null,null,null,null,null,null,null,null,null,null,null,null,null,null,null,null,null,null,null,null,null,null,null,null,null,{"$f":"SUM(AT27:AT28)","v":0},{"$f":"SUM(AU27:AU28)","v":0}]
[null,null,null,null,null,null,null,null,null,null,null,null,null,null,null,null,null,null,null,null,null,null,null,null,null,null,null,null,null,null,null,null,null,null,null,null,null,null,null,null,null,null,null,null,"『ＳＮＳ利用のやりとり』の親和性\n"]
[null,null,null,null,null,null,null,null,null,null,null,null,null,null,null,null,null,null,null,null,null,null,null,null,null,null,null,null,null,null,null,null,null,null,null,null,null,null,null,null,null,null,null,null,"質問項目","１回目","2回目","横軸","Y軸"]
[null,null,null,null,null,null,null,null,null,null,null,null,null,null,null,null,null,null,null,null,null,null,null,null,null,null,null,null,null,null,null,null,null,null,null,null,null,null,null,null,null,null,null,null,"（12）",{"$f":"VLOOKUP($F$2,'1回目　集計表'!$A$6:$W$50,15,1)","v":0},{"$f":"VLOOKUP($F$2,'2回目　集計表'!$A$6:$W$50,15,1)","v":0},0,3]
[null,null,null,null,null,null,null,null,null,null,null,null,null,null,null,null,null,null,null,null,null,null,null,null,null,null,null,null,null,null,null,null,null,null,null,null,null,null,null,null,null,null,null,null,"（13）",{"$f":"VLOOKUP($F$2,'1回目　集計表'!$A$6:$W$50,16,1)","v":0},{"$f":"VLOOKUP($F$2,'2回目　集計表'!$A$6:$W$50,16,1)","v":0},0,2]
[null,null,null,null,null,null,null,null,null,null,null,null,null,null,null,null,null,null,null,null,null,null,null,null,null,null,null,null,null,null,null,null,null,null,null,null,null,null,null,null,null,null,null,null,"（14）",{"$f":"VLOOKUP($F$2,'1回目　集計表'!$A$6:$W$50,17,1)","v":0},{"$f":"VLOOKUP($F$2,'2回目　集計表'!$A$6:$W$50,17,1)","v":0},0,1]
[null,null,null,null,null,null,null,null,null,null,null,null,null,null,null,null,null,null,null,null,null,null,null,null,null,null,null,null,null,null,null,null,null,null,null,null,null,null,null,null,null,null,null,null,null,{"$f":"SUM(AT32:AT34)","v":0},{"$f":"SUM(AU32:AU34)","v":0}]
[]
[null,null,null,null,null,null,null,null,null,null,null,null,null,null,null,null,null,null,null,null,null,null,null,null,null,null,null,null,null,null,null,null,null,null,null,null,null,null,null,null,null,null,null,null,"『即レス』の悩み・負担感"]
[null,null,null,null,null,null,null,null,null,null,null,null,null,null,null,null,null,null,null,null,null,null,null,null,null,null,null,null,null,null,null,null,null,null,null,null,null,null,null,null,null,null,null,null,"質問項目","１回目","2回目","横軸","Y軸"]
[null,null,null,null,null,null,null,null,null,null,null,null,null,null,null,null,null,null,null,null,null,null,null,null,null,null,null,null,null,null,null,null,null,null,null,null,null,null,null,null,null,null,null,null,"（15）",{"$f":"VLOOKUP($F$2,'1回目　集計表'!$A$6:$W$50,18,1)","v":0},{"$f":"VLOOKUP($F$2,'2回目　集計表'!$A$6:$W$50,18,1)","v":0},0,2]
[null,null,null,null,null,null,null,null,null,null,null,null,null,null,null,null,null,null,null,null,null,null,null,null,null,null,null,null,null,null,null,null,null,null,null,null,null,null,null,null,null,null,null,null,"（16）",{"$f":"VLOOKUP($F$2,'1回目　集計表'!$A$6:$W$50,19,1)","v":0},{"$f":"VLOOKUP($F$2,'2回目　集計表'!$A$6:$W$50,19,1)","v":0},0,1]
[null,null,null,null,null,null,null,null,null,null,null,null,null,null,null,null,null,null,null,null,null,null,null,null,null,null,null,null,null,null,null,null,null,null,null,null,null,null,null,null,null,null,null,null,null,{"$f":"SUM(AT39:AT40)","v":0},{"$f":"SUM(AU39:AU40)","v":0}]
[]
[null,null,null,null,null,null,null,null,null,null,null,null,null,null,null,null,null,null,null,null,null,null,null,null,null,null,null,null,null,null,null,null,null,null,null,null,null,null,null,null,null,null,null,null,"『やりとりをする相手との関係性』の悩み・負担感\n"]
[null,null,null,null,null,null,null,null,null,null,null,null,null,null,null,null,null,null,null,null,null,null,null,null,null,null,null,null,null,null,null,null,null,null,null,null,null,null,null,null,null,null,null,null,"質問項目","１回目","2回目","横軸","Y軸"]
[null,null,null,null,null,null,null,null,null,null,null,null,null,null,null,null,null,null,null,null,null,null,null,null,null,null,null,null,null,null,null,null,null,null,null,null,null,null,null,null,null,null,null,null,"（17）",{"$f":"VLOOKUP($F$2,'1回目　集計表'!$A$6:$W$50,20,1)","v":0},{"$f":"VLOOKUP($F$2,'2回目　集計表'!$A$6:$W$50,20,1)","v":0},0,4]
[null,null,null,null,null,null,null,null,null,null,null,null,null,null,null,null,null,null,null,null,null,null,null,null,null,null,null,null,null,null,null,null,null,null,null,null,null,null,null,null,null,null,null,null,"（18）",{"$f":"VLOOKUP($F$2,'1回目　集計表'!$A$6:$W$50,21,1)","v":0},{"$f":"VLOOKUP($F$2,'2回目　集計表'!$A$6:$W$50,21,1)","v":0},0,3]
[null,null,null,null,null,null,null,null,null,null,null,null,null,null,null,null,null,null,null,null,null,null,null,null,null,null,null,null,null,null,null,null,null,null,null,null,null,null,null,null,null,null,null,null,"（19）",{"$f":"VLOOKUP($F$2,'1回目　集計表'!$A$6:$W$50,22,1)","v":0},{"$f":"VLOOKUP($F$2,'2回目　集計表'!$A$6:$W$50,22,1)","v":0},0,2]
[null,null,null,null,null,null,null,null,null,null,null,null,null,null,null,null,null,null,null,null,null,null,null,null,null,null,null,null,null,null,null,null,null,null,null,null,null,null,null,null,null,null,null,null,"（20）",{"$f":"VLOOKUP($F$2,'1回目　集計表'!$A$6:$W$50,23,1)","v":0},{"$f":"VLOOKUP($F$2,'2回目　集計表'!$A$6:$W$50,23,1)","v":0},0,1]
[null,null,null,null,null,null,null,null,null,null,null,null,null,null,null,null,null,null,null,null,null,null,null,null,null,null,null,null,null,null,null,null,null,null,null,null,null,null,null,null,null,null,null,null,null,{"$f":"SUM(AT45:AT48)","v":0},{"$f":"SUM(AU45:AU48)","v":0}]
[]
[]
[null,null,"【　ＳＮＳ観点の意識　】"]
[]
[]
[]
[null,null,null,null,null,null,null,null,null,null,null,null,null,null,null,null,null,null,null,null,null,null,null,null,null,null,null,null,null,null,null,null,null,null,null,null,null,null,null,null,null,null,null,null,"１回目","２回目"]
[null,null,null,null,null,null,null,null,null,null,null,null,null,null,null,null,null,null,null,null,null,null,null,null,null,null,null,null,null,null,null,null,null,null,null,null,null,null,"『ＳＮＳをめぐるトラブル』への備えの意識",null,null,null,null,null,{"$f":"AT24/16","v":0},{"$f":"AU24/16","v":0},1,1,1,null,14,14]
[null,null,null,null,null,null,null,null,null,null,null,null,null,null,null,null,null,null,null,null,null,null,"１回目",null,{"$f":"AS63","v":0},null,"２回目",null,{"$f":"AT63","v":0},null,null,null,null,null,null,null,null,null,"『ＳＮＳをめぐるトラブル』への発生後の対処の意識",null,null,null,null,null,{"$f":"AT29/8","v":0},{"$f":"AU29/8","v":0},1,1,1,null,13,11]
[null,null,null,null,null,null,null,null,null,null,null,null,null,null,null,null,null,null,null,null,null,null,null,null,null,null,null,null,null,null,null,null,null,null,null,null,null,null,"『ＳＮＳ利用のやりとり』の親和性",null,null,null,null,null,{"$f":"AT35/12","v":0},{"$f":"AU35/12","v":0},1,1,1,null,13,11]
[null,null,null,null,null,null,null,null,null,null,null,null,null,null,null,null,null,null,null,null,null,null,null,null,null,null,null,null,null,null,null,null,null,null,null,null,null,null,"『即レス』の悩み・負担感",null,null,null,null,null,{"$f":"AT41/8","v":0},{"$f":"AU41/8","v":0},1,1,1,null,13,11]
[null,null,null,null,null,null,null,null,null,null,null,null,null,null,null,null,null,null,null,null,null,null,null,null,null,null,null,null,null,null,null,null,null,null,null,null,null,null,"『やりとりをする相手との関係性』の 悩み・負担感",null,null,null,null,null,{"$f":"AT49/16","v":0},{"$f":"AU49/16","v":0},1,1,1,null,15,13]
[]
[null,"１回目",null,{"$f":"AS67","v":0},null,"２回目",null,{"$f":"AT67","v":0},null,null,null,null,null,null,null,null,null,null,null,null,null,null,null,null,null,null,null,"１回目",null,{"$f":"AS64","v":0},null,"２回目",null,{"$f":"AT64","v":0},null,null,null,null,null,null,null,null,null,null,{"$f":"AS57*100","v":0},{"$f":"AT57*100","v":0}]
[null,null,null,null,null,null,null,null,null,null,null,null,null,null,null,null,null,null,null,null,null,null,null,null,null,null,null,null,null,null,null,null,null,null,null,null,null,null,null,null,null,null,null,null,{"$f":"AS58*100","v":0},0]
[null,null,null,null,null,null,null,null,null,null,null,null,null,null,null,null,null,null,null,null,null,null,null,null,null,null,null,null,null,null,null,null,null,null,null,null,null,null,null,null,null,null,null,null,0,0]
[null,null,null,null,null,null,null,null,null,null,null,null,null,null,null,null,null,null,null,null,null,null,null,null,null,null,null,null,null,null,null,null,null,null,null,null,null,null,null,null,null,null,null,null,0,0]
[null,null,null,null,null,null,null,null,null,null,null,null,null,null,null,null,null,null,null,null,null,null,null,null,null,null,null,null,null,null,null,null,null,null,null,null,null,null,null,null,null,null,null,null,0,0]
[]
[null,null,null,null,null,"１回目",null,{"$f":"AS66","v":0},null,null,"２回目",null,{"$f":"AT66","v":0},null,null,null,null,null,null,null,null,null,null,null,null,null,"１回目",null,{"$f":"AS65","v":0},null,"２回目",null,{"$f":"AT65","v":0}]
[]
[null,null,null,null,null,null,null,null,null,null,null,null,null,null,null,null,null,null,null,null,null,null,null,null,null,null,null,null,null,null,null,null,null,null,null,null,null,null,null,null,null,null,null,null,null,null,null,null,null,null,0]
[null,null,null,null,null,null,null,null,null,null,null,null,null,null,null,null,null,null,null,null,null,null,null,null,null,null,null,null,null,null,null,null,null,null,null,null,null,null,null,null,null,null,null,null,null,null,null,null,null,null,0]

{"sheet":"ＳＮＳ学級票","index":4,"n_rows":103,"n_cols":52,"rows_kept":103,"cut":false,"hidden":false,"merged":[[98,28,98,30],[99,28,99,30],[100,28,100,30],[101,28,101,30],[102,28,102,30],[97,28,97,30],[97,22,97,24],[98,22,98,24],[99,22,99,24],[100,22,100,24],[101,22,101,24],[102,22,102,24],[97,25,97,27],[98,25,98,27],[99,25,99,27],[100,25,100,27],[101,25,101,27],[102,25,102,27],[32,20,32,30],[32,31,32,32],[32,34,32,35],[33,20,33,30],[33,31,33,32],[33,34,33,35],[30,20,30,30],[30,31,30,32],[30,34,30,35],[31,20,31,30],[31,31,31,32],[31,34,31,35],[18,34,18,35],[19,20,19,30],[19,31,19,32],[19,34,19,35],[27,20,27,30],[27,31,27,32],[27,34,27,35],[29,31,29,32],[29,34,29,35],[25,20,25,30],[25,31,25,32],[25,34,25,35],[26,20,26,30],[26,31,26,32],[26,34,26,35],[0,0,0,36],[1,5,1,6],[1,9,1,10],[1,11,1,17],[1,19,1,22],[1,23,1,24],[1,25,1,26],[1,28,1,29],[1,31,1,32],[2,19,2,22],[2,23,2,24],[2,25,2,26],[2,28,2,29],[2,31,2,32],[35,2,36,12],[37,2,38,2],[77,2,78,10],[6,41,11,42],[5,34,5,35],[5,31,5,32],[13,34,13,35],[14,20,14,30],[14,31,14,32],[14,34,14,35],[15,20,15,30],[15,31,15,32],[15,34,15,35],[3,2,4,10],[4,21,4,27],[4,30,4,36],[23,31,23,32],[23,34,23,35],[24,20,24,30],[6,43,6,46],[24,1,24,2],[24,3,24,19],[30,1,30,2],[30,3,30,19],[12,1,12,2],[12,3,12,19],[18,1,18,2],[18,3,18,19],[6,1,6,2],[6,3,6,19],[11,31,11,32],[24,31,24,32],[24,34,24,35],[17,31,17,32],[17,34,17,35],[18,20,18,30],[20,20,20,30],[20,31,20,32],[20,34,20,35],[21,20,21,30],[21,31,21,32],[21,34,21,35],[18,31,18,32],[6,50,6,53],[18,41,18,42],[18,48,18,49],[24,41,24,42],[24,48,24,49],[6,48,11,49],[11,34,11,35],[12,20,12,30],[12,31,12,32],[12,34,12,35],[13,20,13,30],[13,31,13,32],[6,31,6,32],[7,31,7,32],[8,31,8,32],[6,34,6,35],[7,34,7,35],[8,34,8,35],[9,34,9,35],[6,20,6,30],[7,20,7,30],[8,20,8,30],[9,20,9,30],[9,31,9,32]]}
["「ＳＮＳチェックシート」　－学級票－"]
[null,{"$f":"基礎データ!G3","v":0},"年",{"$f":"基礎データ!I3","v":0},"組",null,null,null,null,null,null,null,null,null,null,null,null,null,null,"１回目",null,null,null,"令和",null,{"$f":"基礎データ!H5","v":"元"},null,"年",{"$f":"基礎データ!J5","v":4},null,"月",{"$f":"基礎データ!L5","v":4},null,"日"]
[null,null,null,null,null,null,null,null,null,null,null,null,null,null,null,null,null,null,null,"２回目",null,null,null,"令和",null,{"$f":"基礎データ!H6","v":2},null,"年",{"$f":"基礎データ!J6","v":5},null,"月",{"$f":"基礎データ!L6","v":5},null,"日"]
[null,null,"【　ＳＮＳの利用実態　】"]
[]
[null,null,null,null,null,null,null,null,null,null,null,null,null,null,null,null,null,null,null,null,null,null,null,null,null,null,null,null,null,null,null,"１回目",null,null,"２回目"]
[null,"（１）",null,"ＳＮＳの１週間当たりの利用日数",null,null,null,null,null,null,null,null,null,null,null,null,null,null,null,null,"ほぼ毎日使う",null,null,null,null,null,null,null,null,null,null,{"$f":"'1回目　集計表'!$D51","v":0},null,"⇒",{"$f":"'2回目　集計表'!$D51","v":0}]
[null,null,null,null,null,null,null,null,null,null,null,null,null,null,null,null,null,null,null,null,"ときどき使う（週に３～４日くらい）",null,null,null,null,null,null,null,null,null,null,{"$f":"'1回目　集計表'!$D52","v":0},null,"⇒",{"$f":"'2回目　集計表'!$D52","v":0}]
[null,null,null,null,null,null,null,null,null,null,null,null,null,null,null,null,null,null,null,null,"あまり使わない（週に１～２日くらい）",null,null,null,null,null,null,null,null,null,null,{"$f":"'1回目　集計表'!$D53","v":0},null,"⇒",{"$f":"'2回目　集計表'!$D53","v":0}]
[null,null,null,null,null,null,null,null,null,null,null,null,null,null,null,null,null,null,null,null,"ほとんど使わない（月に数回）",null,null,null,null,null,null,null,null,null,null,{"$f":"'1回目　集計表'!$D54","v":0},null,"⇒",{"$f":"'2回目　集計表'!$D54","v":0}]
[]
[null,null,null,null,null,null,null,null,null,null,null,null,null,null,null,null,null,null,null,null,null,null,null,null,null,null,null,null,null,null,null,"１回目",null,null,"２回目"]
[null,"（２）",null,"平日にＳＮＳを利用する時間",null,null,null,null,null,null,null,null,null,null,null,null,null,null,null,null,"２時間以上",null,null,null,null,null,null,null,null,null,null,{"$f":"'1回目　集計表'!$E51","v":0},null,"⇒",{"$f":"'2回目　集計表'!$E51","v":0}]
[null,null,null,null,null,null,null,null,null,null,null,null,null,null,null,null,null,null,null,null,"１～２時間未満",null,null,null,null,null,null,null,null,null,null,{"$f":"'1回目　集計表'!$E52","v":0},null,"⇒",{"$f":"'2回目　集計表'!$E52","v":0}]
[null,null,null,null,null,null,null,null,null,null,null,null,null,null,null,null,null,null,null,null,"３０分～１時間未満",null,null,null,null,null,null,null,null,null,null,{"$f":"'1回目　集計表'!$E53","v":0},null,"⇒",{"$f":"'2回目　集計表'!$E53","v":0}]
[null,null,null,null,null,null,null,null,null,null,null,null,null,null,null,null,null,null,null,null,"３０分未満",null,null,null,null,null,null,null,null,null,null,{"$f":"'1回目　集計表'!$E54","v":0},null,"⇒",{"$f":"'2回目　集計表'!$E54","v":0}]
[]
[null,null,null,null,null,null,null,null,null,null,null,null,null,null,null,null,null,null,null,null,null,null,null,null,null,null,null,null,null,null,null,"１回目",null,null,"２回目"]
[null,"（３）",null,"ＳＮＳを使い始めてからの経験年月",null,null,null,null,null,null,null,null,null,null,null,null,null,null,null,null,"２年以上",null,null,null,null,null,null,null,null,null,null,{"$f":"'1回目　集計表'!$F51","v":0},null,"⇒",{"$f":"'2回目　集計表'!$F51","v":0}]
[null,null,null,null,null,null,null,null,null,null,null,null,null,null,null,null,null,null,null,null,"１～２年",null,null,null,null,null,null,null,null,null,null,{"$f":"'1回目　集計表'!$F52","v":0},null,"⇒",{"$f":"'2回目　集計表'!$F52","v":0}]
[null,null,null,null,null,null,null,null,null,null,null,null,null,null,null,null,null,null,null,null,"６か月～１年",null,null,null,null,null,null,null,null,null,null,{"$f":"'1回目　集計表'!$F53","v":0},null,"⇒",{"$f":"'2回目　集計表'!$F53","v":0}]
[null,null,null,null,null,null,null,null,null,null,null,null,null,null,null,null,null,null,null,null,"６か月未満",null,null,null,null,null,null,null,null,null,null,{"$f":"'1回目　集計表'!$F54","v":0},null,"⇒",{"$f":"'2回目　集計表'!$F54","v":0}]
[]
[null,null,null,null,null,null,null,null,null,null,null,null,null,null,null,null,null,null,null,null,null,null,null,null,null,null,null,null,null,null,null,"１回目",null,null,"２回目"]
[null,"（４）",null,"ＳＮＳでメッセージのやり取りをするグループの数",null,null,null,null,null,null,null,null,null,null,null,null,null,null,null,null,"21グループ以上",null,null,null,null,null,null,null,null,null,null,{"$f":"'1回目　集計表'!$G51","v":0},null,"⇒",{"$f":"'2回目　集計表'!$G51","v":0}]
[null,null,null,null,null,null,null,null,null,null,null,null,null,null,null,null,null,null,null,null,"11～20グループ",null,null,null,null,null,null,null,null,null,null,{"$f":"'1回目　集計表'!$G52","v":0},null,"⇒",{"$f":"'2回目　集計表'!$G52","v":0}]
[null,null,null,null,null,null,null,null,null,null,null,null,null,null,null,null,null,null,null,null,"１～１０グループ",null,null,null,null,null,null,null,null,null,null,{"$f":"'1回目　集計表'!$G53","v":0},null,"⇒",{"$f":"'2回目　集計表'!$G53","v":0}]
[null,null,null,null,null,null,null,null,null,null,null,null,null,null,null,null,null,null,null,null,"グループチャットはしない",null,null,null,null,null,null,null,null,null,null,{"$f":"'1回目　集計表'!$G54","v":0},null,"⇒",{"$f":"'2回目　集計表'!$G54","v":0}]
[]
[null,null,null,null,null,null,null,null,null,null,null,null,null,null,null,null,null,null,null,null,null,null,null,null,null,null,null,null,null,null,null,"１回目",null,null,"２回目"]
[null,"（５）",null,"普段，利用しているＳＮＳのメンバー",null,null,null,null,null,null,null,null,null,null,null,null,null,null,null,null,"ほとんどが学校外のメンバー",null,null,null,null,null,null,null,null,null,null,{"$f":"'1回目　集計表'!$H51","v":0},null,"⇒",{"$f":"'2回目　集計表'!$H51","v":0}]
[null,null,null,null,null,null,null,null,null,null,null,null,null,null,null,null,null,null,null,null,"学校外のメンバーが半分より多い",null,null,null,null,null,null,null,null,null,null,{"$f":"'1回目　集計表'!$H52","v":0},null,"⇒",{"$f":"'2回目　集計表'!$H52","v":0}]
[null,null,null,null,null,null,null,null,null,null,null,null,null,null,null,null,null,null,null,null,"学校内のメンバーが半分より多い",null,null,null,null,null,null,null,null,null,null,{"$f":"'1回目　集計表'!$H53","v":0},null,"⇒",{"$f":"'2回目　集計表'!$H53","v":0}]
[null,null,null,null,null,null,null,null,null,null,null,null,null,null,null,null,null,null,null,null,"ほとんどが学校内のメンバー",null,null,null,null,null,null,null,null,null,null,{"$f":"'1回目　集計表'!$H54","v":0},null,"⇒",{"$f":"'2回目　集計表'!$H54","v":0}]
[]
[null,null,"【　ＳＮＳ観点の下位項目　】"]
[]
[]
[]
[null,null,null,null,null,null,null,null,null,null,null,null,null,null,null,null,null,null,null,null,null,null,null,null,null,null,null,null,null,null,null,null,null,null,null,null,null,null,null,null,null,null,null,null,"『ＳＮＳをめぐるトラブル』への備えの意識\n"]
[null,null,null,null,null,null,null,null,null,null,null,null,null,null,null,null,null,null,null,null,null,null,null,null,null,null,null,null,null,null,null,null,null,null,null,null,null,null,null,null,null,null,null,null,"質問項目","１回目","２回目","横軸","Y軸"]
[null,null,null,null,null,null,null,null,null,null,null,null,null,null,null,null,null,null,null,null,null,null,null,null,null,null,null,null,null,null,null,null,null,null,null,null,null,null,null,null,null,null,null,null,"（６）",{"$f":"'1回目　集計表'!$I56","v":{"$error":"#DIV/0!"}},{"$f":"'2回目　集計表'!$I56","v":{"$error":"#DIV/0!"}},0,4]
[null,null,null,null,null,null,null,null,null,null,null,null,null,null,null,null,null,null,null,null,null,null,null,null,null,null,null,null,null,null,null,null,null,null,null,null,null,null,null,null,null,null,null,null,"（７）",{"$f":"'1回目　集計表'!$J56","v":{"$error":"#DIV/0!"}},{"$f":"'2回目　集計表'!$J56","v":{"$error":"#DIV/0!"}},0,3]
[null,null,null,null,null,null,null,null,null,null,null,null,null,null,null,null,null,null,null,null,null,null,null,null,null,null,null,null,null,null,null,null,null,null,null,null,null,null,null,null,null,null,null,null,"（８）",{"$f":"'1回目　集計表'!$K56","v":{"$error":"#DIV/0!"}},{"$f":"'2回目　集計表'!$K56","v":{"$error":"#DIV/0!"}},0,2]
[null,null,null,null,null,null,null,null,null,null,null,null,null,null,null,null,null,null,null,null,null,null,null,null,null,null,null,null,null,null,null,null,null,null,null,null,null,null,null,null,null,null,null,null,"（９）",{"$f":"'1回目　集計表'!$L56","v":{"$error":"#DIV/0!"}},{"$f":"'2回目　集計表'!$L56","v":{"$error":"#DIV/0!"}},0,1]
[null,null,null,null,null,null,null,null,null,null,null,null,null,null,null,null,null,null,null,null,null,null,null,null,null,null,null,null,null,null,null,null,null,null,null,null,null,null,null,null,null,null,null,null,null,{"$f":"SUM(AT42:AT45)","v":{"$error":"#DIV/0!"}},{"$f":"SUM(AU42:AU45)","v":{"$error":"#DIV/0!"}}]
[null,null,null,null,null,null,null,null,null,null,null,null,null,null,null,null,null,null,null,null,null,null,null,null,null,null,null,null,null,null,null,null,null,null,null,null,null,null,null,null,null,null,null,null,"『ＳＮＳをめぐるトラブル』への発生後の対処の意識"]
[null,null,null,null,null,null,null,null,null,null,null,null,null,null,null,null,null,null,null,null,null,null,null,null,null,null,null,null,null,null,null,null,null,null,null,null,null,null,null,null,null,null,null,null,"質問項目","１回目","2回目","横軸","Y軸"]
[null,null,null,null,null,null,null,null,null,null,null,null,null,null,null,null,null,null,null,null,null,null,null,null,null,null,null,null,null,null,null,null,null,null,null,null,null,null,null,null,null,null,null,null,"（10）",{"$f":"'1回目　集計表'!$M56","v":{"$error":"#DIV/0!"}},{"$f":"'2回目　集計表'!$M56","v":{"$error":"#DIV/0!"}},0,2]
[null,null,null,null,null,null,null,null,null,null,null,null,null,null,null,null,null,null,null,null,null,null,null,null,null,null,null,null,null,null,null,null,null,null,null,null,null,null,null,null,null,null,null,null,"（11）",{"$f":"'1回目　集計表'!$N56","v":{"$error":"#DIV/0!"}},{"$f":"'2回目　集計表'!$N56","v":{"$error":"#DIV/0!"}},0,1]
[null,null,null,null,null,null,null,null,null,null,null,null,null,null,null,null,null,null,null,null,null,null,null,null,null,null,null,null,null,null,null,null,null,null,null,null,null,null,null,null,null,null,null,null,null,{"$f":"SUM(AT49:AT50)","v":{"$error":"#DIV/0!"}},{"$f":"SUM(AU49:AU50)","v":{"$error":"#DIV/0!"}}]
[null,null,null,null,null,null,null,null,null,null,null,null,null,null,null,null,null,null,null,null,null,null,null,null,null,null,null,null,null,null,null,null,null,null,null,null,null,null,null,null,null,null,null,null,"『ＳＮＳ利用のやりとり』の親和性\n"]
[null,null,null,null,null,null,null,null,null,null,null,null,null,null,null,null,null,null,null,null,null,null,null,null,null,null,null,null,null,null,null,null,null,null,null,null,null,null,null,null,null,null,null,null,"質問項目","１回目","2回目","横軸","Y軸"]
[null,null,null,null,null,null,null,null,null,null,null,null,null,null,null,null,null,null,null,null,null,null,null,null,null,null,null,null,null,null,null,null,null,null,null,null,null,null,null,null,null,null,null,null,"（12）",{"$f":"'1回目　集計表'!$O56","v":{"$error":"#DIV/0!"}},{"$f":"'2回目　集計表'!$O56","v":{"$error":"#DIV/0!"}},0,3]
[null,null,null,null,null,null,null,null,null,null,null,null,null,null,null,null,null,null,null,null,null,null,null,null,null,null,null,null,null,null,null,null,null,null,null,null,null,null,null,null,null,null,null,null,"（13）",{"$f":"'1回目　集計表'!$P56","v":{"$error":"#DIV/0!"}},{"$f":"'2回目　集計表'!$P56","v":{"$error":"#DIV/0!"}},0,2]
[null,null,null,null,null,null,null,null,null,null,null,null,null,null,null,null,null,null,null,null,null,null,null,null,null,null,null,null,null,null,null,null,null,null,null,null,null,null,null,null,null,null,null,null,"（14）",{"$f":"'1回目　集計表'!$Q56","v":{"$error":"#DIV/0!"}},{"$f":"'2回目　集計表'!$Q56","v":{"$error":"#DIV/0!"}},0,1]
[null,null,null,null,null,null,null,null,null,null,null,null,null,null,null,null,null,null,null,null,null,null,null,null,null,null,null,null,null,null,null,null,null,null,null,null,null,null,null,null,null,null,null,null,null,{"$f":"SUM(AT54:AT56)","v":{"$error":"#DIV/0!"}},{"$f":"SUM(AU54:AU56)","v":{"$error":"#DIV/0!"}}]
[]
[null,null,null,null,null,null,null,null,null,null,null,null,null,null,null,null,null,null,null,null,null,null,null,null,null,null,null,null,null,null,null,null,null,null,null,null,null,null,null,null,null,null,null,null,"『即レス』の悩み・負担感"]
[null,null,null,null,null,null,null,null,null,null,null,null,null,null,null,null,null,null,null,null,null,null,null,null,null,null,null,null,null,null,null,null,null,null,null,null,null,null,null,null,null,null,null,null,"質問項目","１回目","2回目","横軸","Y軸"]
[null,null,null,null,null,null,null,null,null,null,null,null,null,null,null,null,null,null,null,null,null,null,null,null,null,null,null,null,null,null,null,null,null,null,null,null,null,null,null,null,null,null,null,null,"（15）",{"$f":"'1回目　集計表'!$R56","v":{"$error":"#DIV/0!"}},{"$f":"'2回目　集計表'!$R56","v":{"$error":"#DIV/0!"}},0,2]
[null,null,null,null,null,null,null,null,null,null,null,null,null,null,null,null,null,null,null,null,null,null,null,null,null,null,null,null,null,null,null,null,null,null,null,null,null,null,null,null,null,null,null,null,"（16）",{"$f":"'1回目　集計表'!$S56","v":{"$error":"#DIV/0!"}},{"$f":"'2回目　集計表'!$S56","v":{"$error":"#DIV/0!"}},0,1]
[null,null,null,null,null,null,null,null,null,null,null,null,null,null,null,null,null,null,null,null,null,null,null,null,null,null,null,null,null,null,null,null,null,null,null,null,null,null,null,null,null,null,null,null,null,{"$f":"SUM(AT61:AT62)","v":{"$error":"#DIV/0!"}},{"$f":"SUM(AU61:AU62)","v":{"$error":"#DIV/0!"}}]
[]
[null,null,null,null,null,null,null,null,null,null,null,null,null,null,null,null,null,null,null,null,null,null,null,null,null,null,null,null,null,null,null,null,null,null,null,null,null,null,null,null,null,null,null,null,"『やりとりをする相手との関係性』の悩み・負担感\n"]
[null,null,null,null,null,null,null,null,null,null,null,null,null,null,null,null,null,null,null,null,null,null,null,null,null,null,null,null,null,null,null,null,null,null,null,null,null,null,null,null,null,null,null,null,"質問項目","１回目","2回目","横軸","Y軸"]
[null,null,null,null,null,null,null,null,null,null,null,null,null,null,null,null,null,null,null,null,null,null,null,null,null,null,null,null,null,null,null,null,null,null,null,null,null,null,null,null,null,null,null,null,"（17）",{"$f":"'1回目　集計表'!$T56","v":{"$error":"#DIV/0!"}},{"$f":"'2回目　集計表'!$T56","v":{"$error":"#DIV/0!"}},0,4]
[null,null,null,null,null,null,null,null,null,null,null,null,null,null,null,null,null,null,null,null,null,null,null,null,null,null,null,null,null,null,null,null,null,null,null,null,null,null,null,null,null,null,null,null,"（18）",{"$f":"'1回目　集計表'!$U56","v":{"$error":"#DIV/0!"}},{"$f":"'2回目　集計表'!$U56","v":{"$error":"#DIV/0!"}},0,3]
[null,null,null,null,null,null,null,null,null,null,null,null,null,null,null,null,null,null,null,null,null,null,null,null,null,null,null,null,null,null,null,null,null,null,null,null,null,null,null,null,null,null,null,null,"（19）",{"$f":"'1回目　集計表'!$V56","v":{"$error":"#DIV/0!"}},{"$f":"'2回目　集計表'!$V56","v":{"$error":"#DIV/0!"}},0,2]
[null,null,null,null,null,null,null,null,null,null,null,null,null,null,null,null,null,null,null,null,null,null,null,null,null,null,null,null,null,null,null,null,null,null,null,null,null,null,null,null,null,null,null,null,"（20）",{"$f":"'1回目　集計表'!$W56","v":{"$error":"#DIV/0!"}},{"$f":"'2回目　集計表'!$W56","v":{"$error":"#DIV/0!"}},0,1]
[null,null,null,null,null,null,null,null,null,null,null,null,null,null,null,null,null,null,null,null,null,null,null,null,null,null,null,null,null,null,null,null,null,null,null,null,null,null,null,null,null,null,null,null,null,{"$f":"SUM(AT67:AT70)","v":{"$error":"#DIV/0!"}},{"$f":"SUM(AU67:AU70)","v":{"$error":"#DIV/0!"}}]
[]
[]
[]
[]
[]
[]
[null,null,"【　ＳＮＳ観点の意識　】"]
[]
[]
[]
[null,null,null,null,null,null,null,null,null,null,null,null,null,null,null,null,null,null,null,null,null,null,null,null,null,null,null,null,null,null,null,null,null,null,null,null,null,null,null,null,null,null,null,null,"１回目","２回目"]
[null,null,null,null,null,null,null,null,null,null,null,null,null,null,null,null,null,null,null,null,null,null,null,null,null,null,null,null,null,null,null,null,null,null,null,null,null,null,"『ＳＮＳをめぐるトラブル』への備えの意識",null,null,null,null,null,{"$f":"AT46/16","v":{"$error":"#DIV/0!"}},{"$f":"AU46/16","v":{"$error":"#DIV/0!"}},1,1,1,null,14,14]
[null,null,null,null,null,null,null,null,null,null,null,null,null,null,null,null,null,null,null,null,null,null,null,null,null,null,null,null,null,null,null,null,null,null,null,null,null,null,"『ＳＮＳをめぐるトラブル』への発生後の対処の意識",null,null,null,null,null,{"$f":"AT51/8","v":{"$error":"#DIV/0!"}},{"$f":"AU51/8","v":{"$error":"#DIV/0!"}},1,1,1,null,13,11]
[null,null,null,null,null,null,null,null,null,null,null,null,null,null,null,null,null,null,null,null,null,null,null,null,null,null,null,null,null,null,null,null,null,null,null,null,null,null,"『ＳＮＳ利用のやりとり』の親和性",null,null,null,null,null,{"$f":"AT57/12","v":{"$error":"#DIV/0!"}},{"$f":"AU57/12","v":{"$error":"#DIV/0!"}},1,1,1,null,13,11]
[null,null,null,null,null,null,null,null,null,null,null,null,null,null,null,null,null,null,null,null,null,null,null,null,null,null,null,null,null,null,null,null,null,null,null,null,null,null,"『即レス』の悩み・負担感",null,null,null,null,null,{"$f":"AT63/8","v":{"$error":"#DIV/0!"}},{"$f":"AU63/8","v":{"$error":"#DIV/0!"}},1,1,1,null,13,11]
[null,null,null,null,null,null,null,null,null,null,null,null,null,null,null,null,null,null,null,null,null,null,null,null,null,null,null,null,null,null,null,null,null,null,null,null,null,null,"『やりとりをする相手との関係性』の 悩み・負担感",null,null,null,null,null,{"$f":"AT71/16","v":{"$error":"#DIV/0!"}},{"$f":"AU71/16","v":{"$error":"#DIV/0!"}},1,1,1,null,15,13]
[]
[]
[]
[]
[]
[]
[]
[]
[]
[]
[null,null,null,null,null,null,null,null,null,null,null,null,null,null,null,null,null,null,null,null,null,null,"１回目",null,null,"２回目",null,null,"増減"]
[null,null,"『ＳＮＳをめぐるトラブル』への備えの意識",null,null,null,null,null,null,null,null,null,null,null,null,null,null,null,null,null,null,null,{"$f":"AS83","v":{"$error":"#DIV/0!"}},null,null,{"$f":"AT83","v":{"$error":"#DIV/0!"}},null,null,{"$f":"Z99-W99","v":{"$error":"#DIV/0!"}}]
[null,null,"『ＳＮＳをめぐるトラブル』への発生後の対処の意識",null,null,null,null,null,null,null,null,null,null,null,null,null,null,null,null,null,null,null,{"$f":"AS84","v":{"$error":"#DIV/0!"}},null,null,{"$f":"AT84","v":{"$error":"#DIV/0!"}},null,null,{"$f":"Z100-W100","v":{"$error":"#DIV/0!"}}]
[null,null,"『ＳＮＳ利用のやりとり』の親和性",null,null,null,null,null,null,null,null,null,null,null,null,null,null,null,null,null,null,null,{"$f":"AS85","v":{"$error":"#DIV/0!"}},null,null,{"$f":"AT85","v":{"$error":"#DIV/0!"}},null,null,{"$error":"#DIV/0!"}]
[null,null,"『即レス』の悩み・負担感",null,null,null,null,null,null,null,null,null,null,null,null,null,null,null,null,null,null,null,{"$f":"AS86","v":{"$error":"#DIV/0!"}},null,null,{"$f":"AT86","v":{"$error":"#DIV/0!"}},null,null,{"$error":"#DIV/0!"},null,null,null,null,null,null,null,null,null,null,null,null,null,null,null,null,null,null,null,null,null,0]
[null,null,"『やりとりをする相手との関係性』の 悩み・負担感",null,null,null,null,null,null,null,null,null,null,null,null,null,null,null,null,null,null,null,{"$f":"AS87","v":{"$error":"#DIV/0!"}},null,null,{"$f":"AT87","v":{"$error":"#DIV/0!"}},null,null,{"$error":"#DIV/0!"},null,null,null,null,null,null,null,null,null,null,null,null,null,null,null,null,null,null,null,null,null,0]

{"sheet":"ＳＮＳ学級票（度数分布表）","index":5,"n_rows":207,"n_cols":52,"rows_kept":207,"cut":false,"hidden":false,"merged":[[81,23,82,24],[81,25,81,28],[81,30,82,31],[81,32,81,35],[82,40,83,40],[83,1,83,22],[83,23,83,24],[83,30,83,31],[55,23,55,24],[55,30,55,31],[73,40,74,40],[74,1,74,22],[74,23,74,24],[74,30,74,31],[62,25,62,28],[62,30,63,31],[62,32,62,35],[63,40,64,40],[64,1,64,22],[64,23,64,24],[80,30,80,35],[78,1,78,20],[80,40,81,40],[93,1,93,18],[84,1,84,22],[84,23,84,24],[84,30,84,31],[84,40,85,40],[85,1,85,22],[85,23,85,24],[85,30,85,31],[86,1,86,22],[86,23,86,24],[86,30,86,31],[86,40,87,40],[91,6,91,13],[91,16,91,19],[91,23,91,24],[91,26,91,27],[91,29,91,30],[90,16,90,19],[90,23,90,24],[90,26,90,27],[90,29,90,30],[18,34,18,35],[59,1,59,14],[56,23,56,24],[56,30,56,31],[53,23,54,24],[53,25,53,28],[53,30,54,31],[18,3,18,18],[24,3,25,18],[30,3,31,18],[50,1,50,20],[24,1,24,2],[24,20,24,30],[24,31,24,32],[36,2,37,13],[33,34,33,35],[26,34,26,35],[21,31,21,32],[45,1,45,22],[41,23,42,24],[41,30,42,31],[43,23,43,24],[43,30,43,31],[3,2,4,11],[38,1,38,18],[69,1,69,11],[6,31,6,32],[15,20,15,30],[15,31,15,32],[17,31,17,32],[12,3,12,19],[33,20,33,30],[33,31,33,32],[46,30,46,31],[53,32,53,35],[55,1,55,22],[6,34,6,35],[14,34,14,35],[15,34,15,35],[17,34,17,35],[12,34,12,35],[13,34,13,35],[56,1,56,22],[29,34,29,35],[30,34,30,35],[26,20,26,30],[20,34,20,35],[6,1,6,2],[12,1,12,2],[12,31,12,32],[13,20,13,30],[13,31,13,32],[12,20,12,30],[30,1,30,2],[30,20,30,30],[30,31,30,32],[26,31,26,32],[6,3,6,19],[6,20,6,30],[18,1,18,2],[18,20,18,30],[18,31,18,32],[40,40,41,40],[42,40,43,40],[44,40,45,40],[46,40,47,40],[48,2,49,13],[51,1,51,35],[52,23,52,28],[52,30,52,35],[46,1,46,22],[45,23,45,24],[45,30,45,31],[44,23,44,24],[44,30,44,31],[44,1,44,22],[46,23,46,24],[6,50,6,53],[7,20,7,30],[7,31,7,32],[7,34,7,35],[8,20,8,30],[8,31,8,32],[8,34,8,35],[9,20,9,30],[43,1,43,22],[24,41,24,42],[24,48,24,49],[6,41,11,42],[9,31,9,32],[9,34,9,35],[11,31,11,32],[11,34,11,35],[6,43,6,46],[6,48,11,49],[18,48,18,49],[19,20,19,30],[19,31,19,32],[19,34,19,35],[20,20,20,30],[20,31,20,32],[1,13,1,14],[1,16,1,19],[1,23,1,24],[1,26,1,27],[1,29,1,30],[18,41,18,42],[25,20,25,30],[25,31,25,32],[25,34,25,35],[21,34,21,35],[23,31,23,32],[23,34,23,35],[24,34,24,35],[4,21,4,27],[4,30,4,36],[5,31,5,32],[5,34,5,35],[2,16,2,19],[2,23,2,24],[2,26,2,27],[2,29,2,30],[14,20,14,30],[14,31,14,32],[21,20,21,30],[53,40,54,40],[55,40,56,40],[60,1,60,35],[61,23,61,28],[61,30,61,35],[125,1,125,20],[143,1,143,14],[168,1,168,11],[0,0,0,36],[41,32,41,35],[40,30,40,35],[41,25,41,28],[40,23,40,28],[39,1,39,35],[31,20,31,30],[31,31,31,32],[31,34,31,35],[32,20,32,30],[32,31,32,32],[32,34,32,35],[27,20,27,30],[27,31,27,32],[27,34,27,35],[29,31,29,32],[195,1,195,20],[61,40,62,40],[62,23,63,24],[65,40,66,40],[75,1,75,22],[75,23,75,24],[75,30,75,31],[65,1,65,22],[65,23,65,24],[65,30,65,31],[66,1,66,22],[66,23,66,24],[66,30,66,31],[70,1,70,35],[71,23,71,28],[71,30,71,35],[71,40,72,40],[72,23,73,24],[72,25,72,28],[72,30,73,31],[72,32,72,35],[64,30,64,31],[79,1,79,35],[80,23,80,28]]}
["「ＳＮＳチェックシート」－学級票（度数分布）－"]
[null,{"$f":"基礎データ!G3","v":0},"年",{"$f":"基礎データ!I3","v":0},"組",null,null,null,null,null,null,null,null,null,null,null,"１回目",null,null,null,null,"令和",null,{"$f":"基礎データ!H5","v":"元"},null,"年",{"$f":"基礎データ!J5","v":4},null,"月",{"$f":"基礎データ!L5","v":4},null,"日"]
[null,null,null,null,null,null,null,null,null,null,null,null,null,null,null,null,"２回目",null,null,null,null,"令和",null,{"$f":"基礎データ!H6","v":2},null,"年",{"$f":"基礎データ!J6","v":5},null,"月",{"$f":"基礎データ!L6","v":5},null,"日"]
[null,null,"【　ＳＮＳの利用実態　】"]
[]
[null,null,null,null,null,null,null,null,null,null,null,null,null,null,null,null,null,null,null,null,null,null,null,null,null,null,null,null,null,null,null,"１回目",null,null,"２回目"]
[null,"（１）",null,"ＳＮＳの１週間当たりの利用日数",null,null,null,null,null,null,null,null,null,null,null,null,null,null,null,null,"ほぼ毎日使う",null,null,null,null,null,null,null,null,null,null,{"$f":"'1回目　集計表'!$D51","v":0},null,"⇒",{"$f":"'2回目　集計表'!$D51","v":0}]
[null,null,null,null,null,null,null,null,null,null,null,null,null,null,null,null,null,null,null,null,"ときどき使う（週に３～４日くらい）",null,null,null,null,null,null,null,null,null,null,{"$f":"'1回目　集計表'!$D52","v":0},null,"⇒",{"$f":"'2回目　集計表'!$D52","v":0}]
[null,null,null,null,null,null,null,null,null,null,null,null,null,null,null,null,null,null,null,null,"あまり使わない（週に１～２日くらい）",null,null,null,null,null,null,null,null,null,null,{"$f":"'1回目　集計表'!$D53","v":0},null,"⇒",{"$f":"'2回目　集計表'!$D53","v":0}]
[null,null,null,null,null,null,null,null,null,null,null,null,null,null,null,null,null,null,null,null,"ほとんど使わない（月に数回）",null,null,null,null,null,null,null,null,null,null,{"$f":"'1回目　集計表'!$D54","v":0},null,"⇒",{"$f":"'2回目　集計表'!$D54","v":0}]
[]
[null,null,null,null,null,null,null,null,null,null,null,null,null,null,null,null,null,null,null,null,null,null,null,null,null,null,null,null,null,null,null,"１回目",null,null,"２回目"]
[null,"（２）",null,"平日にＳＮＳを利用する時間",null,null,null,null,null,null,null,null,null,null,null,null,null,null,null,null,{"$f":"ＳＮＳ学級票!U13","v":"２時間以上"},null,null,null,null,null,null,null,null,null,null,{"$f":"'1回目　集計表'!$E51","v":0},null,"⇒",{"$f":"'2回目　集計表'!$E51","v":0}]
[null,null,null,null,null,null,null,null,null,null,null,null,null,null,null,null,null,null,null,null,{"$f":"ＳＮＳ学級票!U14","v":"１～２時間未満"},null,null,null,null,null,null,null,null,null,null,{"$f":"'1回目　集計表'!$E52","v":0},null,"⇒",{"$f":"'2回目　集計表'!$E52","v":0}]
[null,null,null,null,null,null,null,null,null,null,null,null,null,null,null,null,null,null,null,null,{"$f":"ＳＮＳ学級票!U15","v":"３０分～１時間未満"},null,null,null,null,null,null,null,null,null,null,{"$f":"'1回目　集計表'!$E53","v":0},null,"⇒",{"$f":"'2回目　集計表'!$E53","v":0}]
[null,null,null,null,null,null,null,null,null,null,null,null,null,null,null,null,null,null,null,null,{"$f":"ＳＮＳ学級票!U16","v":"３０分未満"},null,null,null,null,null,null,null,null,null,null,{"$f":"'1回目　集計表'!$E54","v":0},null,"⇒",{"$f":"'2回目　集計表'!$E54","v":0}]
[]
[null,null,null,null,null,null,null,null,null,null,null,null,null,null,null,null,null,null,null,null,null,null,null,null,null,null,null,null,null,null,null,"１回目",null,null,"２回目"]
[null,"（３）",null,"ＳＮＳを使い始めてからの経験年月",null,null,null,null,null,null,null,null,null,null,null,null,null,null,null,null,{"$f":"ＳＮＳ学級票!U19","v":"２年以上"},null,null,null,null,null,null,null,null,null,null,{"$f":"'1回目　集計表'!$F51","v":0},null,"⇒",{"$f":"'2回目　集計表'!$F51","v":0}]
[null,null,null,null,null,null,null,null,null,null,null,null,null,null,null,null,null,null,null,null,{"$f":"ＳＮＳ学級票!U20","v":"１～２年"},null,null,null,null,null,null,null,null,null,null,{"$f":"'1回目　集計表'!$F52","v":0},null,"⇒",{"$f":"'2回目　集計表'!$F52","v":0}]
[null,null,null,null,null,null,null,null,null,null,null,null,null,null,null,null,null,null,null,null,{"$f":"ＳＮＳ学級票!U21","v":"６か月～１年"},null,null,null,null,null,null,null,null,null,null,{"$f":"'1回目　集計表'!$F53","v":0},null,"⇒",{"$f":"'2回目　集計表'!$F53","v":0}]
[null,null,null,null,null,null,null,null,null,null,null,null,null,null,null,null,null,null,null,null,{"$f":"ＳＮＳ学級票!U22","v":"６か月未満"},null,null,null,null,null,null,null,null,null,null,{"$f":"'1回目　集計表'!$F54","v":0},null,"⇒",{"$f":"'2回目　集計表'!$F54","v":0}]
[]
[null,null,null,null,null,null,null,null,null,null,null,null,null,null,null,null,null,null,null,null,null,null,null,null,null,null,null,null,null,null,null,"１回目",null,null,"２回目"]
[null,"（４）",null,"ＳＮＳでメッセージのやり取りをするグループの数",null,null,null,null,null,null,null,null,null,null,null,null,null,null,null,null,"21グループ以上",null,null,null,null,null,null,null,null,null,null,{"$f":"'1回目　集計表'!$G51","v":0},null,"⇒",{"$f":"'2回目　集計表'!$G51","v":0}]
[null,null,null,null,null,null,null,null,null,null,null,null,null,null,null,null,null,null,null,null,"11～20グループ",null,null,null,null,null,null,null,null,null,null,{"$f":"'1回目　集計表'!$G52","v":0},null,"⇒",{"$f":"'2回目　集計表'!$G52","v":0}]
[null,null,null,null,null,null,null,null,null,null,null,null,null,null,null,null,null,null,null,null,"１～１０グループ",null,null,null,null,null,null,null,null,null,null,{"$f":"'1回目　集計表'!$G53","v":0},null,"⇒",{"$f":"'2回目　集計表'!$G53","v":0}]
[null,null,null,null,null,null,null,null,null,null,null,null,null,null,null,null,null,null,null,null,"グループチャットはしない",null,null,null,null,null,null,null,null,null,null,{"$f":"'1回目　集計表'!$G54","v":0},null,"⇒",{"$f":"'2回目　集計表'!$G54","v":0}]
[]
[null,null,null,null,null,null,null,null,null,null,null,null,null,null,null,null,null,null,null,null,null,null,null,null,null,null,null,null,null,null,null,"１回目",null,null,"２回目"]
[null,"（５）",null,"普段，利用しているＳＮＳのメンバー",null,null,null,null,null,null,null,null,null,null,null,null,null,null,null,null,"ほとんどが学校外のメンバー",null,null,null,null,null,null,null,null,null,null,{"$f":"'1回目　集計表'!$H51","v":0},null,"⇒",{"$f":"'2回目　集計表'!$H51","v":0}]
[null,null,null,null,null,null,null,null,null,null,null,null,null,null,null,null,null,null,null,null,"学校外のメンバーが半分より多い",null,null,null,null,null,null,null,null,null,null,{"$f":"'1回目　集計表'!$H52","v":0},null,"⇒",{"$f":"'2回目　集計表'!$H52","v":0}]
[null,null,null,null,null,null,null,null,null,null,null,null,null,null,null,null,null,null,null,null,"学校内のメンバーが半分より多い",null,null,null,null,null,null,null,null,null,null,{"$f":"'1回目　集計表'!$H53","v":0},null,"⇒",{"$f":"'2回目　集計表'!$H53","v":0}]
[null,null,null,null,null,null,null,null,null,null,null,null,null,null,null,null,null,null,null,null,"ほとんどが学校内のメンバー",null,null,null,null,null,null,null,null,null,null,{"$f":"'1回目　集計表'!$H54","v":0},null,"⇒",{"$f":"'2回目　集計表'!$H54","v":0}]
[]
[]
[null,null,"【　ＳＮＳ観点の下位項目　】"]
[]
[null,"■『ＳＮＳをめぐるトラブル』への備えの意識"]
[null,"４とても気をつけている　３気をつけている　２あまり気をつけていない　１全く気をつけていない",null,null,null,null,null,null,null,null,null,null,null,null,null,null,null,null,null,null,null,null,null,null,null,null,null,null,null,null,null,null,null,null,null,null,null,null,null,null,null,null,"とても気をつけている","気をつけている","気をつけていない","全く気をつけていない",null,4,3,2,1]
[null,null,null,null,null,null,null,null,null,null,null,null,null,null,null,null,null,null,null,null,null,null,null,"１回目の調査",null,null,null,null,null,null,"２回目の調査",null,null,null,null,null,null,null,null,null,6,"1回目",{"$f":"AV41/$AZ41","v":{"$error":"#DIV/0!"}},{"$error":"#DIV/0!"},{"$error":"#DIV/0!"},{"$error":"#DIV/0!"},"1回目",{"$f":"'1回目　集計表'!$I$51","v":0},{"$f":"'1回目　集計表'!$I$52","v":0},{"$f":"'1回目　集計表'!$I$53","v":0},{"$f":"'1回目　集計表'!$I$54","v":0},{"$f":"SUM(AV41:AY41)","v":0}]
[null,null,null,null,null,null,null,null,null,null,null,null,null,null,null,null,null,null,null,null,null,null,null,"平均",null,"度数分布（人）",null,null,null,null,"平均",null,"度数分布（人）",null,null,null,null,null,null,null,null,"2回目",{"$error":"#DIV/0!"},{"$error":"#DIV/0!"},{"$error":"#DIV/0!"},{"$error":"#DIV/0!"},"2回目",{"$f":"'2回目　集計表'!$I$51","v":0},{"$f":"'2回目　集計表'!$I$52","v":0},{"$f":"'2回目　集計表'!$I$53","v":0},{"$f":"'2回目　集計表'!$I$54","v":0},{"$f":"SUM(AV42:AY42)","v":0}]
[null,null,null,null,null,null,null,null,null,null,null,null,null,null,null,null,null,null,null,null,null,null,null,null,null,4,3,2,1,null,null,null,4,3,2,1,null,null,null,null,7,"1回目",{"$error":"#DIV/0!"},{"$error":"#DIV/0!"},{"$error":"#DIV/0!"},{"$error":"#DIV/0!"},"1回目",{"$f":"'1回目　集計表'!$J$51","v":0},{"$f":"'1回目　集計表'!$J$52","v":0},{"$f":"'1回目　集計表'!$J$53","v":0},{"$f":"'1回目　集計表'!$J$54","v":0},0]
[null,"（６）住所や電話番号，メールアドレス，顔がうつっている\n 　 写真のことなどの情報は出さないようにしている。",null,null,null,null,null,null,null,null,null,null,null,null,null,null,null,null,null,null,null,null,null,{"$f":"'1回目　集計表'!$I56","v":{"$error":"#DIV/0!"}},null,{"$f":"AV41","v":0},{"$f":"AW41","v":0},{"$f":"AX41","v":0},{"$f":"AY41","v":0},"⇒",{"$f":"IF(ISERROR('2回目　集計表'!$I56),0,'2回目　集計表'!$I56)","v":0},null,{"$f":"AV42","v":0},{"$f":"AW42","v":0},{"$f":"AX42","v":0},{"$f":"AY42","v":0},null,null,null,null,null,"2回目",{"$error":"#DIV/0!"},{"$error":"#DIV/0!"},{"$error":"#DIV/0!"},{"$error":"#DIV/0!"},"2回目",{"$f":"'2回目　集計表'!$J$51","v":0},{"$f":"'2回目　集計表'!$J$52","v":0},{"$f":"'2回目　集計表'!$J$53","v":0},{"$f":"'2回目　集計表'!$J$54","v":0},0]
[null,"（７）相手が不愉快な気持ちになるような内容は書かないよ\n　　うに気を付けている。",null,null,null,null,null,null,null,null,null,null,null,null,null,null,null,null,null,null,null,null,null,{"$f":"'1回目　集計表'!$J56","v":{"$error":"#DIV/0!"}},null,{"$f":"AV43","v":0},{"$f":"AW43","v":0},{"$f":"AX43","v":0},{"$f":"AY43","v":0},"⇒",{"$f":"IF(ISERROR('2回目　集計表'!$J56),0,'2回目　集計表'!$J56)","v":0},null,{"$f":"AV44","v":0},{"$f":"AW44","v":0},{"$f":"AX44","v":0},{"$f":"AY44","v":0},null,null,null,null,8,"1回目",{"$error":"#DIV/0!"},{"$error":"#DIV/0!"},{"$error":"#DIV/0!"},{"$error":"#DIV/0!"},"1回目",{"$f":"'1回目　集計表'!$K$51","v":0},{"$f":"'1回目　集計表'!$K$52","v":0},{"$f":"'1回目　集計表'!$K$53","v":0},{"$f":"'1回目　集計表'!$K$54","v":0},0]
[null,"（８）メッセージを送る前に問題がないか確認をするように\n　　気を付けている。",null,null,null,null,null,null,null,null,null,null,null,null,null,null,null,null,null,null,null,null,null,{"$f":"'1回目　集計表'!$K56","v":{"$error":"#DIV/0!"}},null,{"$f":"AV45","v":0},{"$f":"AW45","v":0},{"$f":"AX45","v":0},{"$f":"AY45","v":0},"⇒",{"$f":"IF(ISERROR('2回目　集計表'!$K56),0,'2回目　集計表'!$K56)","v":0},null,{"$f":"AV46","v":0},{"$f":"AW46","v":0},{"$f":"AX46","v":0},{"$f":"AY46","v":0},null,null,null,null,null,"2回目",{"$error":"#DIV/0!"},{"$error":"#DIV/0!"},{"$error":"#DIV/0!"},{"$error":"#DIV/0!"},"2回目",{"$f":"'2回目　集計表'!$K$51","v":0},{"$f":"'2回目　集計表'!$K$52","v":0},{"$f":"'2回目　集計表'!$K$53","v":0},{"$f":"'2回目　集計表'!$K$54","v":0},0]
[null,"（９）長時間にならないようにメッセージのやり取りをする\n　　ように気を付けている。",null,null,null,null,null,null,null,null,null,null,null,null,null,null,null,null,null,null,null,null,null,{"$f":"'1回目　集計表'!$L56","v":{"$error":"#DIV/0!"}},null,{"$f":"AV47","v":0},{"$f":"AW47","v":0},{"$f":"AX47","v":0},{"$f":"AY47","v":0},"⇒",{"$f":"IF(ISERROR('2回目　集計表'!$L56),0,'2回目　集計表'!$L56)","v":0},null,{"$f":"AV48","v":0},{"$f":"AW48","v":0},{"$f":"AX48","v":0},{"$f":"AY48","v":0},null,null,null,null,9,"1回目",{"$f":"AV47/$AZ47","v":{"$error":"#DIV/0!"}},{"$error":"#DIV/0!"},{"$error":"#DIV/0!"},{"$error":"#DIV/0!"},"1回目",{"$f":"'1回目　集計表'!$L$51","v":0},{"$f":"'1回目　集計表'!$L$52","v":0},{"$f":"'1回目　集計表'!$L$53","v":0},{"$f":"'1回目　集計表'!$L$54","v":0},0]
[null,null,null,null,null,null,null,null,null,null,null,null,null,null,null,null,null,null,null,null,null,null,null,null,null,null,null,null,null,null,null,null,null,null,null,null,null,null,null,null,null,"2回目",{"$error":"#DIV/0!"},{"$error":"#DIV/0!"},{"$error":"#DIV/0!"},{"$error":"#DIV/0!"},"2回目",{"$f":"'2回目　集計表'!$L$51","v":0},{"$f":"'2回目　集計表'!$L$52","v":0},{"$f":"'2回目　集計表'!$L$53","v":0},{"$f":"'2回目　集計表'!$L$54","v":0},0]
[null,null,"【　ＳＮＳ観点の下位項目　】"]
[]
[null,"■『ＳＮＳをめぐるトラブル』への発生後の対処の意識"]
[null,"４とても気をつけている　３気をつけている　２あまり気をつけていない　１全く気をつけていない"]
[null,null,null,null,null,null,null,null,null,null,null,null,null,null,null,null,null,null,null,null,null,null,null,"１回目の調査",null,null,null,null,null,null,"２回目の調査",null,null,null,null,null,null,null,null,null,null,null,4,3,2,1,null,4,3,2,1]
[null,null,null,null,null,null,null,null,null,null,null,null,null,null,null,null,null,null,null,null,null,null,null,"平均",null,"度数分布（人）",null,null,null,null,"平均",null,"度数分布（人）",null,null,null,null,null,null,null,10,"1回目",{"$f":"AV54/$AZ54","v":{"$error":"#DIV/0!"}},{"$error":"#DIV/0!"},{"$error":"#DIV/0!"},{"$error":"#DIV/0!"},"1回目",{"$f":"'1回目　集計表'!$M$51","v":0},{"$f":"'1回目　集計表'!$M$52","v":0},{"$f":"'1回目　集計表'!$M$53","v":0},{"$f":"'1回目　集計表'!$M$54","v":0},{"$f":"SUM(AV54:AY54)","v":0}]
[null,null,null,null,null,null,null,null,null,null,null,null,null,null,null,null,null,null,null,null,null,null,null,null,null,4,3,2,1,null,null,null,4,3,2,1,null,null,null,null,null,"2回目",{"$error":"#DIV/0!"},{"$error":"#DIV/0!"},{"$error":"#DIV/0!"},{"$error":"#DIV/0!"},"2回目",{"$f":"'2回目　集計表'!$M$51","v":0},{"$f":"'2回目　集計表'!$M$52","v":0},{"$f":"'2回目　集計表'!$M$53","v":0},{"$f":"'2回目　集計表'!$M$54","v":0},{"$f":"SUM(AV55:AY55)","v":0}]
[null,"（10）メッセージのやり取りで嫌な気持ちになったときは，\n　　直接，会話で気持ちを伝えるように気を付けている。",null,null,null,null,null,null,null,null,null,null,null,null,null,null,null,null,null,null,null,null,null,{"$f":"'1回目　集計表'!$M56","v":{"$error":"#DIV/0!"}},null,{"$f":"AV54","v":0},{"$f":"AW54","v":0},{"$f":"AX54","v":0},{"$f":"AY54","v":0},"⇒",{"$f":"IF(ISERROR('2回目　集計表'!$M56),0,'2回目　集計表'!$M56)","v":0},null,{"$f":"AV55","v":0},{"$f":"AW55","v":0},{"$f":"AX55","v":0},{"$f":"AY55","v":0},null,null,null,null,11,"1回目",{"$error":"#DIV/0!"},{"$error":"#DIV/0!"},{"$error":"#DIV/0!"},{"$error":"#DIV/0!"},"1回目",{"$f":"'1回目　集計表'!$N$51","v":0},{"$f":"'1回目　集計表'!$N$52","v":0},{"$f":"'1回目　集計表'!$N$53","v":0},{"$f":"'1回目　集計表'!$N$54","v":0},{"$f":"SUM(AV56:AY56)","v":0}]
[null,"（11）友達とのやり取りで困ったときは親や先生に相談す\n　　るようにしている。",null,null,null,null,null,null,null,null,null,null,null,null,null,null,null,null,null,null,null,null,null,{"$f":"'1回目　集計表'!$N56","v":{"$error":"#DIV/0!"}},null,{"$f":"AV56","v":0},{"$f":"AW56","v":0},{"$f":"AX56","v":0},{"$f":"AY56","v":0},"⇒",{"$f":"IF(ISERROR('2回目　集計表'!$N56),0,'2回目　集計表'!$N56)","v":0},null,{"$f":"AV57","v":0},{"$f":"AW57","v":0},{"$f":"AX57","v":0},{"$f":"AY57","v":0},null,null,null,null,null,"2回目",{"$error":"#DIV/0!"},{"$error":"#DIV/0!"},{"$error":"#DIV/0!"},{"$error":"#DIV/0!"},"2回目",{"$f":"'2回目　集計表'!$N$51","v":0},{"$f":"'2回目　集計表'!$N$52","v":0},{"$f":"'2回目　集計表'!$N$53","v":0},{"$f":"'2回目　集計表'!$N$54","v":0},{"$f":"SUM(AV57:AY57)","v":0}]
[]
[]
[null,"■『ＳＮＳ利用のやり取り』の親和性"]
[null,"４全く思わない　３あまり思わない　２思う　１とても思う",null,null,null,null,null,null,null,null,null,null,null,null,null,null,null,null,null,null,null,null,null,null,null,null,null,null,null,null,null,null,null,null,null,null,null,null,null,null,null,null,4,3,2,1,null,4,3,2,1]
[null,null,null,null,null,null,null,null,null,null,null,null,null,null,null,null,null,null,null,null,null,null,null,"１回目の調査",null,null,null,null,null,null,"２回目の調査",null,null,null,null,null,null,null,null,null,12,"1回目",{"$f":"AV62/$AZ62","v":{"$error":"#DIV/0!"}},{"$error":"#DIV/0!"},{"$error":"#DIV/0!"},{"$error":"#DIV/0!"},"1回目",{"$f":"'1回目　集計表'!$O$51","v":0},{"$f":"'1回目　集計表'!$O$52","v":0},{"$f":"'1回目　集計表'!$O$53","v":0},{"$f":"'1回目　集計表'!$O$54","v":0},{"$f":"SUM(AV62:AY62)","v":0}]
[null,null,null,null,null,null,null,null,null,null,null,null,null,null,null,null,null,null,null,null,null,null,null,"平均",null,"度数分布（人）",null,null,null,null,"平均",null,"度数分布（人）",null,null,null,null,null,null,null,null,"2回目",{"$error":"#DIV/0!"},{"$error":"#DIV/0!"},{"$error":"#DIV/0!"},{"$error":"#DIV/0!"},"2回目",{"$f":"'2回目　集計表'!$O$51","v":0},{"$f":"'2回目　集計表'!$O$52","v":0},{"$f":"'2回目　集計表'!$O$53","v":0},{"$f":"'2回目　集計表'!$O$54","v":0},0]
[null,null,null,null,null,null,null,null,null,null,null,null,null,null,null,null,null,null,null,null,null,null,null,null,null,4,3,2,1,null,null,null,4,3,2,1,null,null,null,null,13,"1回目",{"$error":"#DIV/0!"},{"$error":"#DIV/0!"},{"$error":"#DIV/0!"},{"$error":"#DIV/0!"},"1回目",{"$f":"'1回目　集計表'!$P$51","v":0},{"$f":"'1回目　集計表'!$P$52","v":0},{"$f":"'1回目　集計表'!$P$53","v":0},{"$f":"'1回目　集計表'!$P$54","v":0},0]
[null,"（12）友達とメールやチャットでのやり取りを通じて，友\n　　達の気持ちを確かめることができる。",null,null,null,null,null,null,null,null,null,null,null,null,null,null,null,null,null,null,null,null,null,{"$f":"'1回目　集計表'!$O56","v":{"$error":"#DIV/0!"}},null,{"$f":"AV62","v":0},{"$f":"AW62","v":0},{"$f":"AX62","v":0},{"$f":"AY62","v":0},"⇒",{"$f":"IF(ISERROR('2回目　集計表'!$O56),0,'2回目　集計表'!$O56)","v":0},null,{"$f":"AV63","v":0},{"$f":"AW63","v":0},{"$f":"AX63","v":0},{"$f":"AY63","v":0},null,null,null,null,null,"2回目",{"$error":"#DIV/0!"},{"$error":"#DIV/0!"},{"$error":"#DIV/0!"},{"$error":"#DIV/0!"},"2回目",{"$f":"'2回目　集計表'!$P$51","v":0},{"$f":"'2回目　集計表'!$P$52","v":0},{"$f":"'2回目　集計表'!$P$53","v":0},{"$f":"'2回目　集計表'!$P$54","v":0},0]
[null,"（13）友達とメールやチャットでメッセージのやり取りを\n　　することで，友達とのつながりをもてる。",null,null,null,null,null,null,null,null,null,null,null,null,null,null,null,null,null,null,null,null,null,{"$f":"'1回目　集計表'!$P56","v":{"$error":"#DIV/0!"}},null,{"$f":"AV64","v":0},{"$f":"AW64","v":0},{"$f":"AX64","v":0},{"$f":"AY64","v":0},"⇒",{"$f":"IF(ISERROR('2回目　集計表'!$P56),0,'2回目　集計表'!$P56)","v":0},null,{"$f":"AV65","v":0},{"$f":"AW65","v":0},{"$f":"AX65","v":0},{"$f":"AY65","v":0},null,null,null,null,14,"1回目",{"$f":"AV66/$AZ66","v":{"$error":"#DIV/0!"}},{"$error":"#DIV/0!"},{"$error":"#DIV/0!"},{"$error":"#DIV/0!"},"1回目",{"$f":"'1回目　集計表'!$Q$51","v":0},{"$f":"'1回目　集計表'!$Q$52","v":0},{"$f":"'1回目　集計表'!$Q$53","v":0},{"$f":"'1回目　集計表'!$Q$54","v":0},0]
[null,"（14）友達とメールやチャットでメッセージのやり取りを\n　　してさびしさをすぐにまぎらわすことができる。",null,null,null,null,null,null,null,null,null,null,null,null,null,null,null,null,null,null,null,null,null,{"$f":"'1回目　集計表'!$Q56","v":{"$error":"#DIV/0!"}},null,{"$f":"AV66","v":0},{"$f":"AW66","v":0},{"$f":"AX66","v":0},{"$f":"AY66","v":0},"⇒",{"$f":"IF(ISERROR('2回目　集計表'!$Q56),0,'2回目　集計表'!$Q56)","v":0},null,{"$f":"AV67","v":0},{"$f":"AW67","v":0},{"$f":"AX67","v":0},{"$f":"AY67","v":0},null,null,null,null,null,"2回目",{"$error":"#DIV/0!"},{"$error":"#DIV/0!"},{"$error":"#DIV/0!"},{"$error":"#DIV/0!"},"2回目",{"$f":"'2回目　集計表'!$Q$51","v":0},{"$f":"'2回目　集計表'!$Q$52","v":0},{"$f":"'2回目　集計表'!$Q$53","v":0},{"$f":"'2回目　集計表'!$Q$54","v":0},0]
[]
[]
[null,"■『即レス』の悩み・負担感"]
[null,"４全く思わない　３あまり思わない　２思う　１とても思う",null,null,null,null,null,null,null,null,null,null,null,null,null,null,null,null,null,null,null,null,null,null,null,null,null,null,null,null,null,null,null,null,null,null,null,null,null,null,null,null,4,3,2,1,null,4,3,2,1]
[null,null,null,null,null,null,null,null,null,null,null,null,null,null,null,null,null,null,null,null,null,null,null,"１回目の調査",null,null,null,null,null,null,"２回目の調査",null,null,null,null,null,null,null,null,null,15,"1回目",{"$f":"AV72/$AZ72","v":{"$error":"#DIV/0!"}},{"$error":"#DIV/0!"},{"$error":"#DIV/0!"},{"$error":"#DIV/0!"},"1回目",{"$f":"'1回目　集計表'!$R$51","v":0},{"$f":"'1回目　集計表'!$R$52","v":0},{"$f":"'1回目　集計表'!$R$53","v":0},{"$f":"'1回目　集計表'!$R$54","v":0},{"$f":"SUM(AV72:AY72)","v":0}]
[null,null,null,null,null,null,null,null,null,null,null,null,null,null,null,null,null,null,null,null,null,null,null,"平均",null,"度数分布（人）",null,null,null,null,"平均",null,"度数分布（人）",null,null,null,null,null,null,null,null,"2回目",{"$error":"#DIV/0!"},{"$error":"#DIV/0!"},{"$error":"#DIV/0!"},{"$error":"#DIV/0!"},"2回目",{"$f":"'2回目　集計表'!$R$51","v":0},{"$f":"'2回目　集計表'!$R$52","v":0},{"$f":"'2回目　集計表'!$R$53","v":0},{"$f":"'2回目　集計表'!$R$54","v":0},{"$f":"SUM(AV73:AY73)","v":0}]
[null,null,null,null,null,null,null,null,null,null,null,null,null,null,null,null,null,null,null,null,null,null,null,null,null,4,3,2,1,null,null,null,4,3,2,1,null,null,null,null,16,"1回目",{"$error":"#DIV/0!"},{"$error":"#DIV/0!"},{"$error":"#DIV/0!"},{"$error":"#DIV/0!"},"1回目",{"$f":"'1回目　集計表'!$S$51","v":0},{"$f":"'1回目　集計表'!$S$52","v":0},{"$f":"'1回目　集計表'!$S$53","v":0},{"$f":"'1回目　集計表'!$S$54","v":0},{"$f":"SUM(AV74:AY74)","v":0}]
[null,"（15）メッセージがきたらすぐに返事をすることで悩んで\n　　いる。",null,null,null,null,null,null,null,null,null,null,null,null,null,null,null,null,null,null,null,null,null,{"$f":"'1回目　集計表'!$R56","v":{"$error":"#DIV/0!"}},null,{"$f":"AV72","v":0},{"$f":"AW72","v":0},{"$f":"AX72","v":0},{"$f":"AY72","v":0},"⇒",{"$f":"IF(ISERROR('2回目　集計表'!$R56),0,'2回目　集計表'!$R56)","v":0},null,{"$f":"AV73","v":0},{"$f":"AW73","v":0},{"$f":"AX73","v":0},{"$f":"AY73","v":0},null,null,null,null,null,"2回目",{"$error":"#DIV/0!"},{"$error":"#DIV/0!"},{"$error":"#DIV/0!"},{"$error":"#DIV/0!"},"2回目",{"$f":"'2回目　集計表'!$S$51","v":0},{"$f":"'2回目　集計表'!$S$52","v":0},{"$f":"'2回目　集計表'!$S$53","v":0},{"$f":"'2回目　集計表'!$S$54","v":0},{"$f":"SUM(AV75:AY75)","v":0}]
[null,"（16）友達から送られてくるメッセージをチェックするこ\n　　とで悩んでいる。",null,null,null,null,null,null,null,null,null,null,null,null,null,null,null,null,null,null,null,null,null,{"$f":"'1回目　集計表'!$S56","v":{"$error":"#DIV/0!"}},null,{"$f":"AV74","v":0},{"$f":"AW74","v":0},{"$f":"AX74","v":0},{"$f":"AY74","v":0},"⇒",{"$f":"IF(ISERROR('2回目　集計表'!$S56),0,'2回目　集計表'!$S56)","v":0},null,{"$f":"AV75","v":0},{"$f":"AW75","v":0},{"$f":"AX75","v":0},{"$f":"AY75","v":0}]
[]
[]
[null,"■『やり取りをする相手との関係性』の悩み・負担感"]
[null,"４全く思わない　３あまり思わない　２思う　１とても思う",null,null,null,null,null,null,null,null,null,null,null,null,null,null,null,null,null,null,null,null,null,null,null,null,null,null,null,null,null,null,null,null,null,null,null,null,null,null,null,null,4,3,2,1,null,4,3,2,1]
[null,null,null,null,null,null,null,null,null,null,null,null,null,null,null,null,null,null,null,null,null,null,null,"１回目の調査",null,null,null,null,null,null,"２回目の調査",null,null,null,null,null,null,null,null,null,17,"1回目",{"$f":"AV81/$AZ81","v":{"$error":"#DIV/0!"}},{"$f":"AW81/$AZ81","v":{"$error":"#DIV/0!"}},{"$f":"AX81/$AZ81","v":{"$error":"#DIV/0!"}},{"$f":"AY81/$AZ81","v":{"$error":"#DIV/0!"}},"1回目",{"$f":"'1回目　集計表'!$T$51","v":0},{"$f":"'1回目　集計表'!$T$52","v":0},{"$f":"'1回目　集計表'!$T$53","v":0},{"$f":"'1回目　集計表'!$T$54","v":0},{"$f":"SUM(AV81:AY81)","v":0}]
[null,null,null,null,null,null,null,null,null,null,null,null,null,null,null,null,null,null,null,null,null,null,null,"平均",null,"度数分布（人）",null,null,null,null,"平均",null,"度数分布（人）",null,null,null,null,null,null,null,null,"2回目",{"$error":"#DIV/0!"},{"$error":"#DIV/0!"},{"$error":"#DIV/0!"},{"$error":"#DIV/0!"},"2回目",{"$f":"'2回目　集計表'!$T$51","v":0},{"$f":"'2回目　集計表'!$T$52","v":0},{"$f":"'2回目　集計表'!$T$53","v":0},{"$f":"'2回目　集計表'!$T$54","v":0},{"$f":"SUM(AV82:AY82)","v":0}]
[null," ",null,null,null,null,null,null,null,null,null,null,null,null,null,null,null,null,null,null,null,null,null,null,null,4,3,2,1,null,null,null,4,3,2,1,null,null,null,null,18,"1回目",{"$error":"#DIV/0!"},{"$error":"#DIV/0!"},{"$error":"#DIV/0!"},{"$error":"#DIV/0!"},"1回目",{"$f":"'1回目　集計表'!$U$51","v":0},{"$f":"'1回目　集計表'!$U$52","v":0},{"$f":"'1回目　集計表'!$U$53","v":0},{"$f":"'1回目　集計表'!$U$54","v":0},0]
[null,"（17）メッセージのやり取りをなかなか終わらせられない\n　　ことで悩んでいる。",null,null,null,null,null,null,null,null,null,null,null,null,null,null,null,null,null,null,null,null,null,{"$f":"'1回目　集計表'!$T56","v":{"$error":"#DIV/0!"}},null,{"$f":"AV81","v":0},{"$f":"AW81","v":0},{"$f":"AX81","v":0},{"$f":"AY81","v":0},"⇒",{"$f":"IF(ISERROR('2回目　集計表'!$T56),0,'2回目　集計表'!$T56)","v":0},null,{"$f":"AV82","v":0},{"$f":"AW82","v":0},{"$f":"AX82","v":0},{"$f":"AY82","v":0},null,null,null,null,null,"2回目",{"$error":"#DIV/0!"},{"$error":"#DIV/0!"},{"$error":"#DIV/0!"},{"$error":"#DIV/0!"},"2回目",{"$f":"'2回目　集計表'!$U$51","v":0},{"$f":"'2回目　集計表'!$U$52","v":0},{"$f":"'2回目　集計表'!$U$53","v":0},{"$f":"'2回目　集計表'!$U$54","v":0},0]
[null,"（18）自分が送信したメッセージに対する反応がないこと\n　　で悩んでいる。",null,null,null,null,null,null,null,null,null,null,null,null,null,null,null,null,null,null,null,null,null,{"$f":"'1回目　集計表'!$U56","v":{"$error":"#DIV/0!"}},null,{"$f":"AV83","v":0},{"$f":"AW83","v":0},{"$f":"AX83","v":0},{"$f":"AY83","v":0},"⇒",{"$f":"IF(ISERROR('2回目　集計表'!$U56),0,'2回目　集計表'!$U56)","v":0},null,{"$f":"AV84","v":0},{"$f":"AW84","v":0},{"$f":"AX84","v":0},{"$f":"AY84","v":0},null,null,null,null,19,"1回目",{"$error":"#DIV/0!"},{"$error":"#DIV/0!"},{"$error":"#DIV/0!"},{"$error":"#DIV/0!"},"1回目",{"$f":"'1回目　集計表'!$V$51","v":0},{"$f":"'1回目　集計表'!$V$52","v":0},{"$f":"'1回目　集計表'!$V$53","v":0},{"$f":"'1回目　集計表'!$V$54","v":0},0]
[null,"（19）メッセージの送信後，「あの伝え方でよかったのだ\n　　ろうか」と悩んでいる。",null,null,null,null,null,null,null,null,null,null,null,null,null,null,null,null,null,null,null,null,null,{"$f":"'1回目　集計表'!$V56","v":{"$error":"#DIV/0!"}},null,{"$f":"AV85","v":0},{"$f":"AW85","v":0},{"$f":"AX85","v":0},{"$f":"AY85","v":0},"⇒",{"$f":"IF(ISERROR('2回目　集計表'!$V56),0,'2回目　集計表'!$V56)","v":0},null,{"$f":"AV86","v":0},{"$f":"AW86","v":0},{"$f":"AX86","v":0},{"$f":"AY86","v":0},null,null,null,null,null,"2回目",{"$error":"#DIV/0!"},{"$error":"#DIV/0!"},{"$error":"#DIV/0!"},{"$error":"#DIV/0!"},"2回目",{"$f":"'2回目　集計表'!$V$51","v":0},{"$f":"'2回目　集計表'!$V$52","v":0},{"$f":"'2回目　集計表'!$V$53","v":0},{"$f":"'2回目　集計表'!$V$54","v":0},0]
[null,"（20）知らないところで自分のことについてメッセージの\n　　やり取りをしているのではないかと心配になる。",null,null,null,null,null,null,null,null,null,null,null,null,null,null,null,null,null,null,null,null,null,{"$f":"'1回目　集計表'!$W56","v":{"$error":"#DIV/0!"}},null,{"$f":"AV87","v":0},{"$f":"AW87","v":0},{"$f":"AX87","v":0},{"$f":"AY87","v":0},"⇒",{"$f":"IF(ISERROR('2回目　集計表'!$W56),0,'2回目　集計表'!$W56)","v":0},null,{"$f":"AV88","v":0},{"$f":"AW88","v":0},{"$f":"AX88","v":0},{"$f":"AY88","v":0},null,null,null,null,20,"1回目",{"$error":"#DIV/0!"},{"$error":"#DIV/0!"},{"$error":"#DIV/0!"},{"$error":"#DIV/0!"},"1回目",{"$f":"'1回目　集計表'!$W$51","v":0},{"$f":"'1回目　集計表'!$W$52","v":0},{"$f":"'1回目　集計表'!$W$53","v":0},{"$f":"'1回目　集計表'!$W$54","v":0},0]
[null,null,null,null,null,null,null,null,null,null,null,null,null,null,null,null,null,null,null,null,null,null,null,null,null,null,null,null,null,null,null,null,null,null,null,null,null,null,null,null,null,"2回目",{"$error":"#DIV/0!"},{"$error":"#DIV/0!"},{"$error":"#DIV/0!"},{"$error":"#DIV/0!"},"2回目",{"$f":"'2回目　集計表'!$W$51","v":0},{"$f":"'2回目　集計表'!$W$52","v":0},{"$f":"'2回目　集計表'!$W$53","v":0},{"$f":"'2回目　集計表'!$W$54","v":0},0]
[]
[]
[null,null,null,null,null,null,null,null,null,null,null,null,null,null,null,null,"１回目",null,null,null,null,"平成",null,{"$f":"X2","v":"元"},null,"年",{"$f":"AA2","v":4},null,"月",{"$f":"AD2","v":4},null,"日"]
[null,{"$f":"B2","v":0},"年",{"$f":"D2","v":0},"組",null,"観点別グラフデータ",null,null,null,null,null,null,null,null,null,"２回目",null,null,null,null,"平成",null,{"$f":"X3","v":2},null,"年",{"$f":"AA3","v":5},null,"月",{"$f":"AD3","v":5},null,"日"]
[]
[null,"■『ＳＮＳをめぐるトラブル』への備えの意識",null,null,null,null,null,null,null,null,null,null,null,null,null,null,null,null,null,null,null,null,null,null,null,null,null,null,null,null,null,null,null,null,null,null,null,null,null,null,null,null,"とても気をつけている","気をつけている","気をつけていない","全く気をつけていない",null,4,3,2,1]
[null,null,null,null,null,null,null,null,null,null,null,null,null,null,null,null,null,null,null,null,null,null,null,null,null,null,null,null,null,null,null,null,null,null,null,null,null,null,null,null,6,"1回目",{"$f":"AV95/$AZ95","v":{"$error":"#DIV/0!"}},{"$error":"#DIV/0!"},{"$error":"#DIV/0!"},{"$error":"#DIV/0!"},"1回目",{"$f":"'1回目　集計表'!$I$51","v":0},{"$f":"'1回目　集計表'!$I$52","v":0},{"$f":"'1回目　集計表'!$I$53","v":0},{"$f":"'1回目　集計表'!$I$54","v":0},{"$f":"SUM(AV95:AY95)","v":0}]
[null,null,null,null,null,null,null,null,null,null,null,null,null,null,null,null,null,null,null,null,null,null,null,null,null,null,null,null,null,null,null,null,null,null,null,null,null,null,null,null,null,"2回目",{"$error":"#DIV/0!"},{"$error":"#DIV/0!"},{"$error":"#DIV/0!"},{"$error":"#DIV/0!"},"2回目",{"$f":"'2回目　集計表'!$I$51","v":0},{"$f":"'2回目　集計表'!$I$52","v":0},{"$f":"'2回目　集計表'!$I$53","v":0},{"$f":"'2回目　集計表'!$I$54","v":0},{"$f":"SUM(AV96:AY96)","v":0}]
[null,null,null,null,null,null,null,null,null,null,null,null,null,null,null,null,null,null,null,null,null,null,null,null,null,null,null,null,null,null,null,null,null,null,null,null,null,null,null,null,null,null,"とても気をつけている","気をつけている","気をつけていない","全く気をつけていない",null,4,3,2,1]
[null,null,null,null,null,null,null,null,null,null,null,null,null,null,null,null,null,null,null,null,null,null,null,null,null,null,null,null,null,null,null,null,null,null,null,null,null,null,null,null,7,"1回目",{"$f":"AV98/$AZ98","v":{"$error":"#DIV/0!"}},{"$error":"#DIV/0!"},{"$error":"#DIV/0!"},{"$error":"#DIV/0!"},"1回目",{"$f":"'1回目　集計表'!$J$51","v":0},{"$f":"'1回目　集計表'!$J$52","v":0},{"$f":"'1回目　集計表'!$J$53","v":0},{"$f":"'1回目　集計表'!$J$54","v":0},{"$f":"SUM(AV98:AY98)","v":0}]
[null,null,null,null,null,null,null,null,null,null,null,null,null,null,null,null,null,null,null,null,null,null,null,null,null,null,null,null,null,null,null,null,null,null,null,null,null,null,null,null,null,"2回目",{"$error":"#DIV/0!"},{"$error":"#DIV/0!"},{"$error":"#DIV/0!"},{"$error":"#DIV/0!"},"2回目",{"$f":"'2回目　集計表'!$J$51","v":0},{"$f":"'2回目　集計表'!$J$52","v":0},{"$f":"'2回目　集計表'!$J$53","v":0},{"$f":"'2回目　集計表'!$J$54","v":0},{"$f":"SUM(AV99:AY99)","v":0}]
[null,null,null,null,null,null,null,null,null,null,null,null,null,null,null,null,null,null,null,null,null,null,null,null,null,null,null,null,null,null,null,null,null,null,null,null,null,null,null,null,null,null,"とても気をつけている","気をつけている","気をつけていない","全く気をつけていない",null,4,3,2,1]
[null,null,null,null,null,null,null,null,null,null,null,null,null,null,null,null,null,null,null,null,null,null,null,null,null,null,null,null,null,null,null,null,null,null,null,null,null,null,null,null,8,"1回目",{"$f":"AV101/$AZ101","v":{"$error":"#DIV/0!"}},{"$error":"#DIV/0!"},{"$error":"#DIV/0!"},{"$error":"#DIV/0!"},"1回目",{"$f":"'1回目　集計表'!$K$51","v":0},{"$f":"'1回目　集計表'!$K$52","v":0},{"$f":"'1回目　集計表'!$K$53","v":0},{"$f":"'1回目　集計表'!$K$54","v":0},{"$f":"SUM(AV101:AY101)","v":0}]
[null,null,null,null,null,null,null,null,null,null,null,null,null,null,null,null,null,null,null,null,null,null,null,null,null,null,null,null,null,null,null,null,null,null,null,null,null,null,null,null,null,"2回目",{"$error":"#DIV/0!"},{"$error":"#DIV/0!"},{"$error":"#DIV/0!"},{"$error":"#DIV/0!"},"2回目",{"$f":"'2回目　集計表'!$K$51","v":0},{"$f":"'2回目　集計表'!$K$52","v":0},{"$f":"'2回目　集計表'!$K$53","v":0},{"$f":"'2回目　集計表'!$K$54","v":0},{"$f":"SUM(AV102:AY102)","v":0}]
[null,null,null,null,null,null,null,null,null,null,null,null,null,null,null,null,null,null,null,null,null,null,null,null,null,null,null,null,null,null,null,null,null,null,null,null,null,null,null,null,null,null,"とても気をつけている","気をつけている","気をつけていない","全く気をつけていない",null,4,3,2,1]
[null,null,null,null,null,null,null,null,null,null,null,null,null,null,null,null,null,null,null,null,null,null,null,null,null,null,null,null,null,null,null,null,null,null,null,null,null,null,null,null,9,"1回目",{"$f":"AV104/$AZ104","v":{"$error":"#DIV/0!"}},{"$error":"#DIV/0!"},{"$error":"#DIV/0!"},{"$error":"#DIV/0!"},"1回目",{"$f":"'1回目　集計表'!$L$51","v":0},{"$f":"'1回目　集計表'!$L$52","v":0},{"$f":"'1回目　集計表'!$L$53","v":0},{"$f":"'1回目　集計表'!$L$54","v":0},{"$f":"SUM(AV104:AY104)","v":0}]
[null,null,null,null,null,null,null,null,null,null,null,null,null,null,null,null,null,null,null,null,null,null,null,null,null,null,null,null,null,null,null,null,null,null,null,null,null,null,null,null,null,"2回目",{"$error":"#DIV/0!"},{"$error":"#DIV/0!"},{"$error":"#DIV/0!"},{"$error":"#DIV/0!"},"2回目",{"$f":"'2回目　集計表'!$L$51","v":0},{"$f":"'2回目　集計表'!$L$52","v":0},{"$f":"'2回目　集計表'!$L$53","v":0},{"$f":"'2回目　集計表'!$L$54","v":0},{"$f":"SUM(AV105:AY105)","v":0}]
[]
[]
[]
[]
[]
[]
[]
[]
[]
[]
[]
[]
[]
[]
[]
[]
[]
[]
[]
[]
[null,"■『ＳＮＳをめぐるトラブル』への発生後の対処の意識",null,null,null,null,null,null,null,null,null,null,null,null,null,null,null,null,null,null,null,null,null,null,null,null,null,null,null,null,null,null,null,null,null,null,null,null,null,null,null,null,"とても気をつけている","気をつけている","気をつけていない","全く気をつけていない",null,4,3,2,1]
[null,null,null,null,null,null,null,null,null,null,null,null,null,null,null,null,null,null,null,null,null,null,null,null,null,null,null,null,null,null,null,null,null,null,null,null,null,null,null,null,10,"1回目",{"$f":"AV127/$AZ127","v":{"$error":"#DIV/0!"}},{"$error":"#DIV/0!"},{"$error":"#DIV/0!"},{"$error":"#DIV/0!"},"1回目",{"$f":"'1回目　集計表'!$M$51","v":0},{"$f":"'1回目　集計表'!$M$52","v":0},{"$f":"'1回目　集計表'!$M$53","v":0},{"$f":"'1回目　集計表'!$M$54","v":0},{"$f":"SUM(AV127:AY127)","v":0}]
[null,null,null,null,null,null,null,null,null,null,null,null,null,null,null,null,null,null,null,null,null,null,null,null,null,null,null,null,null,null,null,null,null,null,null,null,null,null,null,null,null,"2回目",{"$error":"#DIV/0!"},{"$error":"#DIV/0!"},{"$error":"#DIV/0!"},{"$error":"#DIV/0!"},"2回目",{"$f":"'2回目　集計表'!$M$51","v":0},{"$f":"'2回目　集計表'!$M$52","v":0},{"$f":"'2回目　集計表'!$M$53","v":0},{"$f":"'2回目　集計表'!$M$54","v":0},{"$f":"SUM(AV128:AY128)","v":0}]
[null,null,null,null,null,null,null,null,null,null,null,null,null,null,null,null,null,null,null,null,null,null,null,null,null,null,null,null,null,null,null,null,null,null,null,null,null,null,null,null,null,null,"とても気をつけている","気をつけている","気をつけていない","全く気をつけていない"]
[null,null,null,null,null,null,null,null,null,null,null,null,null,null,null,null,null,null,null,null,null,null,null,null,null,null,null,null,null,null,null,null,null,null,null,null,null,null,null,null,11,"1回目",{"$f":"AV130/$AZ130","v":{"$error":"#DIV/0!"}},{"$error":"#DIV/0!"},{"$error":"#DIV/0!"},{"$error":"#DIV/0!"},"1回目",{"$f":"'1回目　集計表'!$N$51","v":0},{"$f":"'1回目　集計表'!$N$52","v":0},{"$f":"'1回目　集計表'!$N$53","v":0},{"$f":"'1回目　集計表'!$N$54","v":0},{"$f":"SUM(AV130:AY130)","v":0}]
[null,null,null,null,null,null,null,null,null,null,null,null,null,null,null,null,null,null,null,null,null,null,null,null,null,null,null,null,null,null,null,null,null,null,null,null,null,null,null,null,null,"2回目",{"$error":"#DIV/0!"},{"$error":"#DIV/0!"},{"$error":"#DIV/0!"},{"$error":"#DIV/0!"},"2回目",{"$f":"'2回目　集計表'!$N$51","v":0},{"$f":"'2回目　集計表'!$N$52","v":0},{"$f":"'2回目　集計表'!$N$53","v":0},{"$f":"'2回目　集計表'!$N$54","v":0},{"$f":"SUM(AV131:AY131)","v":0}]
[]
[]
[]
[]
[]
[]
[]
[]
[]
[]
[]
[]
[null,"■『ＳＮＳ利用のやり取り』の親和性"]
[null,null,null,null,null,null,null,null,null,null,null,null,null,null,null,null,null,null,null,null,null,null,null,null,null,null,null,null,null,null,null,null,null,null,null,null,null,null,null,null,null,null,"全く思わない","思わない","思う","とても思う",null,4,3,2,1]
[null,null,null,null,null,null,null,null,null,null,null,null,null,null,null,null,null,null,null,null,null,null,null,null,null,null,null,null,null,null,null,null,null,null,null,null,null,null,null,null,12,"1回目",{"$f":"AV146/$AZ146","v":{"$error":"#DIV/0!"}},{"$error":"#DIV/0!"},{"$error":"#DIV/0!"},{"$error":"#DIV/0!"},"1回目",{"$f":"'1回目　集計表'!$O$51","v":0},{"$f":"'1回目　集計表'!$O$52","v":0},{"$f":"'1回目　集計表'!$O$53","v":0},{"$f":"'1回目　集計表'!$O$54","v":0},{"$f":"SUM(AV146:AY146)","v":0}]
[null,null,null,null,null,null,null,null,null,null,null,null,null,null,null,null,null,null,null,null,null,null,null,null,null,null,null,null,null,null,null,null,null,null,null,null,null,null,null,null,null,"2回目",{"$error":"#DIV/0!"},{"$error":"#DIV/0!"},{"$error":"#DIV/0!"},{"$error":"#DIV/0!"},"2回目",{"$f":"'2回目　集計表'!$O$51","v":0},{"$f":"'2回目　集計表'!$O$52","v":0},{"$f":"'2回目　集計表'!$O$53","v":0},{"$f":"'2回目　集計表'!$O$54","v":0},{"$f":"SUM(AV147:AY147)","v":0}]
[null,null,null,null,null,null,null,null,null,null,null,null,null,null,null,null,null,null,null,null,null,null,null,null,null,null,null,null,null,null,null,null,null,null,null,null,null,null,null,null,null,null,"全く思わない","思わない","思う","とても思う"]
[null,null,null,null,null,null,null,null,null,null,null,null,null,null,null,null,null,null,null,null,null,null,null,null,null,null,null,null,null,null,null,null,null,null,null,null,null,null,null,null,13,"1回目",{"$f":"AV149/$AZ149","v":{"$error":"#DIV/0!"}},{"$error":"#DIV/0!"},{"$error":"#DIV/0!"},{"$error":"#DIV/0!"},"1回目",{"$f":"'1回目　集計表'!$P$51","v":0},{"$f":"'1回目　集計表'!$P$52","v":0},{"$f":"'1回目　集計表'!$P$53","v":0},{"$f":"'1回目　集計表'!$P$54","v":0},{"$f":"SUM(AV149:AY149)","v":0}]
[null,null,null,null,null,null,null,null,null,null,null,null,null,null,null,null,null,null,null,null,null,null,null,null,null,null,null,null,null,null,null,null,null,null,null,null,null,null,null,null,null,"2回目",{"$error":"#DIV/0!"},{"$error":"#DIV/0!"},{"$error":"#DIV/0!"},{"$error":"#DIV/0!"},"2回目",{"$f":"'2回目　集計表'!$P$51","v":0},{"$f":"'2回目　集計表'!$P$52","v":0},{"$f":"'2回目　集計表'!$P$53","v":0},{"$f":"'2回目　集計表'!$P$54","v":0},{"$f":"SUM(AV150:AY150)","v":0}]
[]
[]
[]
[]
[]
[]
[]
[]
[]
[]
[null,null,null,null,null,null,null,null,null,null,null,null,null,null,null,null,null,null,null,null,null,null,null,null,null,null,null,null,null,null,null,null,null,null,null,null,null,null,null,null,null,null,"全く思わない","思わない","思う","とても思う"]
[null,null,null,null,null,null,null,null,null,null,null,null,null,null,null,null,null,null,null,null,null,null,null,null,null,null,null,null,null,null,null,null,null,null,null,null,null,null,null,null,14,"1回目",{"$f":"AV162/$AZ162","v":{"$error":"#DIV/0!"}},{"$error":"#DIV/0!"},{"$error":"#DIV/0!"},{"$error":"#DIV/0!"},"1回目",{"$f":"'1回目　集計表'!$Q$51","v":0},{"$f":"'1回目　集計表'!$Q$52","v":0},{"$f":"'1回目　集計表'!$Q$53","v":0},{"$f":"'1回目　集計表'!$Q$54","v":0},{"$f":"SUM(AV162:AY162)","v":0}]
[null,null,null,null,null,null,null,null,null,null,null,null,null,null,null,null,null,null,null,null,null,null,null,null,null,null,null,null,null,null,null,null,null,null,null,null,null,null,null,null,null,"2回目",{"$error":"#DIV/0!"},{"$error":"#DIV/0!"},{"$error":"#DIV/0!"},{"$error":"#DIV/0!"},"2回目",{"$f":"'2回目　集計表'!$Q$51","v":0},{"$f":"'2回目　集計表'!$Q$52","v":0},{"$f":"'2回目　集計表'!$Q$53","v":0},{"$f":"'2回目　集計表'!$Q$54","v":0},{"$f":"SUM(AV163:AY163)","v":0}]
[]
[]
[]
[]
[]
[null,"■『即レス』の悩み・負担感"]
[null,null,null,null,null,null,null,null,null,null,null,null,null,null,null,null,null,null,null,null,null,null,null,null,null,null,null,null,null,null,null,null,null,null,null,null,null,null,null,null,null,null,"全く思わない","思わない","思う","とても思う",null,4,3,2,1]
[null,null,null,null,null,null,null,null,null,null,null,null,null,null,null,null,null,null,null,null,null,null,null,null,null,null,null,null,null,null,null,null,null,null,null,null,null,null,null,null,15,"1回目",{"$f":"AV171/$AZ171","v":{"$error":"#DIV/0!"}},{"$error":"#DIV/0!"},{"$error":"#DIV/0!"},{"$error":"#DIV/0!"},"1回目",{"$f":"'1回目　集計表'!$R$51","v":0},{"$f":"'1回目　集計表'!$R$52","v":0},{"$f":"'1回目　集計表'!$R$53","v":0},{"$f":"'1回目　集計表'!$R$54","v":0},{"$f":"SUM(AV171:AY171)","v":0}]
[null,null,null,null,null,null,null,null,null,null,null,null,null,null,null,null,null,null,null,null,null,null,null,null,null,null,null,null,null,null,null,null,null,null,null,null,null,null,null,null,null,"2回目",{"$error":"#DIV/0!"},{"$error":"#DIV/0!"},{"$error":"#DIV/0!"},{"$error":"#DIV/0!"},"2回目",{"$f":"'2回目　集計表'!$R$51","v":0},{"$f":"'2回目　集計表'!$R$52","v":0},{"$f":"'2回目　集計表'!$R$53","v":0},{"$f":"'2回目　集計表'!$R$54","v":0},{"$f":"SUM(AV172:AY172)","v":0}]
[]
[]
[]
[]
[null,null,null,null,null,null,null,null,null,null,null,null,null,null,null,null,null,null,null,null,null,null,null,null,null,null,null,null,null,null,null,null,null,null,null,null,null,null,null,null,null,null,"全く思わない","思わない","思う","とても思う"]
[null,null,null,null,null,null,null,null,null,null,null,null,null,null,null,null,null,null,null,null,null,null,null,null,null,null,null,null,null,null,null,null,null,null,null,null,null,null,null,null,16,"1回目",{"$f":"AV178/$AZ178","v":{"$error":"#DIV/0!"}},{"$error":"#DIV/0!"},{"$error":"#DIV/0!"},{"$error":"#DIV/0!"},"1回目",{"$f":"'1回目　集計表'!$S$51","v":0},{"$f":"'1回目　集計表'!$S$52","v":0},{"$f":"'1回目　集計表'!$S$53","v":0},{"$f":"'1回目　集計表'!$S$54","v":0},{"$f":"SUM(AV178:AY178)","v":0}]
[null,null,null,null,null,null,null,null,null,null,null,null,null,null,null,null,null,null,null,null,null,null,null,null,null,null,null,null,null,null,null,null,null,null,null,null,null,null,null,null,null,"2回目",{"$error":"#DIV/0!"},{"$error":"#DIV/0!"},{"$error":"#DIV/0!"},{"$error":"#DIV/0!"},"2回目",{"$f":"'2回目　集計表'!$S$51","v":0},{"$f":"'2回目　集計表'!$S$52","v":0},{"$f":"'2回目　集計表'!$S$53","v":0},{"$f":"'2回目　集計表'!$S$54","v":0},{"$f":"SUM(AV179:AY179)","v":0}]
[]
[]
[]
[]
[]
[]
[]
[]
[]
[]
[]
[]
[]
[]
[]
[]
[null,"■『やり取りをする相手との関係性』の悩み・負担感",null,null,null,null,null,null,null,null,null,null,null,null,null,null,null,null,null,null,null,null,null,null,null,null,null,null,null,null,null,null,null,null,null,null,null,null,null,null,null,null,"全く思わない","思わない","思う","とても思う",null,4,3,2,1]
[null,null,null,null,null,null,null,null,null,null,null,null,null,null,null,null,null,null,null,null,null,null,null,null,null,null,null,null,null,null,null,null,null,null,null,null,null,null,null,null,17,"1回目",{"$f":"AV197/$AZ197","v":{"$error":"#DIV/0!"}},{"$error":"#DIV/0!"},{"$error":"#DIV/0!"},{"$error":"#DIV/0!"},"1回目",{"$f":"'1回目　集計表'!$T$51","v":0},{"$f":"'1回目　集計表'!$T$52","v":0},{"$f":"'1回目　集計表'!$T$53","v":0},{"$f":"'1回目　集計表'!$T$54","v":0},{"$f":"SUM(AV197:AY197)","v":0}]
[null,null,null,null,null,null,null,null,null,null,null,null,null,null,null,null,null,null,null,null,null,null,null,null,null,null,null,null,null,null,null,null,null,null,null,null,null,null,null,null,null,"2回目",{"$error":"#DIV/0!"},{"$error":"#DIV/0!"},{"$error":"#DIV/0!"},{"$error":"#DIV/0!"},"2回目",{"$f":"'2回目　集計表'!$T$51","v":0},{"$f":"'2回目　集計表'!$T$52","v":0},{"$f":"'2回目　集計表'!$T$53","v":0},{"$f":"'2回目　集計表'!$T$54","v":0},{"$f":"SUM(AV198:AY198)","v":0}]
[null,null,null,null,null,null,null,null,null,null,null,null,null,null,null,null,null,null,null,null,null,null,null,null,null,null,null,null,null,null,null,null,null,null,null,null,null,null,null,null,null,null,"全く思わない","思わない","思う","とても思う"]
[null,null,null,null,null,null,null,null,null,null,null,null,null,null,null,null,null,null,null,null,null,null,null,null,null,null,null,null,null,null,null,null,null,null,null,null,null,null,null,null,18,"1回目",{"$f":"AV200/$AZ200","v":{"$error":"#DIV/0!"}},{"$error":"#DIV/0!"},{"$error":"#DIV/0!"},{"$error":"#DIV/0!"},"1回目",{"$f":"'1回目　集計表'!$U$51","v":0},{"$f":"'1回目　集計表'!$U$52","v":0},{"$f":"'1回目　集計表'!$U$53","v":0},{"$f":"'1回目　集計表'!$U$54","v":0},{"$f":"SUM(AV200:AY200)","v":0}]
[null,null,null,null,null,null,null,null,null,null,null,null,null,null,null,null,null,null,null,null,null,null,null,null,null,null,null,null,null,null,null,null,null,null,null,null,null,null,null,null,null,"2回目",{"$error":"#DIV/0!"},{"$error":"#DIV/0!"},{"$error":"#DIV/0!"},{"$error":"#DIV/0!"},"2回目",{"$f":"'2回目　集計表'!$U$51","v":0},{"$f":"'2回目　集計表'!$U$52","v":0},{"$f":"'2回目　集計表'!$U$53","v":0},{"$f":"'2回目　集計表'!$U$54","v":0},{"$f":"SUM(AV201:AY201)","v":0}]
[null,null,null,null,null,null,null,null,null,null,null,null,null,null,null,null,null,null,null,null,null,null,null,null,null,null,null,null,null,null,null,null,null,null,null,null,null,null,null,null,null,null,"全く思わない","思わない","思う","とても思う"]
[null,null,null,null,null,null,null,null,null,null,null,null,null,null,null,null,null,null,null,null,null,null,null,null,null,null,null,null,null,null,null,null,null,null,null,null,null,null,null,null,19,"1回目",{"$f":"AV203/$AZ203","v":{"$error":"#DIV/0!"}},{"$error":"#DIV/0!"},{"$error":"#DIV/0!"},{"$error":"#DIV/0!"},"1回目",{"$f":"'1回目　集計表'!$V$51","v":0},{"$f":"'1回目　集計表'!$V$52","v":0},{"$f":"'1回目　集計表'!$V$53","v":0},{"$f":"'1回目　集計表'!$V$54","v":0},{"$f":"SUM(AV203:AY203)","v":0}]
[null,null,null,null,null,null,null,null,null,null,null,null,null,null,null,null,null,null,null,null,null,null,null,null,null,null,null,null,null,null,null,null,null,null,null,null,null,null,null,null,null,"2回目",{"$error":"#DIV/0!"},{"$error":"#DIV/0!"},{"$error":"#DIV/0!"},{"$error":"#DIV/0!"},"2回目",{"$f":"'2回目　集計表'!$V$51","v":0},{"$f":"'2回目　集計表'!$V$52","v":0},{"$f":"'2回目　集計表'!$V$53","v":0},{"$f":"'2回目　集計表'!$V$54","v":0},{"$f":"SUM(AV204:AY204)","v":0}]
[null,null,null,null,null,null,null,null,null,null,null,null,null,null,null,null,null,null,null,null,null,null,null,null,null,null,null,null,null,null,null,null,null,null,null,null,null,null,null,null,null,null,"全く思わない","思わない","思う","とても思う"]
[null,null,null,null,null,null,null,null,null,null,null,null,null,null,null,null,null,null,null,null,null,null,null,null,null,null,null,null,null,null,null,null,null,null,null,null,null,null,null,null,20,"1回目",{"$f":"AV206/$AZ206","v":{"$error":"#DIV/0!"}},{"$error":"#DIV/0!"},{"$error":"#DIV/0!"},{"$error":"#DIV/0!"},"1回目",{"$f":"'1回目　集計表'!$W$51","v":0},{"$f":"'1回目　集計表'!$W$52","v":0},{"$f":"'1回目　集計表'!$W$53","v":0},{"$f":"'1回目　集計表'!$W$54","v":0},{"$f":"SUM(AV206:AY206)","v":0}]
[null,null,null,null,null,null,null,null,null,null,null,null,null,null,null,null,null,null,null,null,null,null,null,null,null,null,null,null,null,null,null,null,null,null,null,null,null,null,null,null,null,"2回目",{"$error":"#DIV/0!"},{"$error":"#DIV/0!"},{"$error":"#DIV/0!"},{"$error":"#DIV/0!"},"2回目",{"$f":"'2回目　集計表'!$W$51","v":0},{"$f":"'2回目　集計表'!$W$52","v":0},{"$f":"'2回目　集計表'!$W$53","v":0},{"$f":"'2回目　集計表'!$W$54","v":0},{"$f":"SUM(AV207:AY207)","v":0}]